Workbook
Name Actividades: Diccionarios!$J$3:$J$53
Name ASISTENTE_SOCIAL: Busc!$D$2:$D$32
Name DV: Diccionarios!$F$2:$F$12
Name ENFERMERA: Busc!$F$2:$F$36
Name Especialidades: Diccionarios!$C$3:$C$63
Name FONOAUDIOLOGO: Busc!$H$2:$H$39
Name KINESIOLOGO: Busc!$J$2:$J$39
Name MATRONA: Busc!$L$2:$L$34
Name med_g: Diccionarios!$H$2:$H$3
Name NUTRICIONISTA: Busc!$N$2:$N$32
Name PSICOLOGO: Busc!$P$2:$P$40
Name QUIMICO_FARMACEUTICO: Busc!$R$2:$R$27
Name TECNOLOGO_MEDICO: Busc!$T$2:$T$21
Name TERAPEUTA_OCUPACIONAL: Busc!$V$2:$V$37
Name TITULO: Busc!$A$2:$A$11

Sheet RRHH
A1: ID_DEIS | B1: Cod_Estab | C1: RUT_TIT | D1: DV_TIT | E1: Sup/Reemp. (SI/NO) | F1: RUT | G1: DV | H1: Nombre | I1: LEY | J1: Correlativo Contrato | K1: Titulo Profesional | L1: Especialidad SIS | M1: Hrs Semanales contratadas | N1: Sistema de Turno (S/N) | O1: Observaciones debe Identificar (Liberado de Guardia (LG)/Periodo Asistencial Obligatorio(PAO)/ Permiso Gremial) | P1: Feriados Legales | Q1: Dias Descanso Compensatorio (Ley Urgencia) | R1: Dias de Permisos Administrativos | S1: Dias de Congreso o capacitación | T1: Tiempo de Lactancia semanal (min) | U1: Tiempo de colación semanal (min) | V1: Fecha Inicio contrato (AAAAMMDD) | W1: Fecha termino contrato (AAAAMMDD)
F2: 11111111 | G2: 1 | J2: 1 | K2: Médico Cirujano | L2: PEDIATRÍA | M2: 22 | N2: N | P2: 15 | R2: 6 | S2: 6 | T2: 225 | U2: 225 | V2: 20200101 | W2: 20201231
F3: 11111111 | G3: 1 | J3: 2 | K3: Médico Cirujano | L3: PEDIATRÍA | M3: 11 | N3: N | V3: 20200101 | W3: 20201231
F4: 22222222 | G4: 2 | J4: 1 | K4: Médico Cirujano | L4: CARDIOLOGÍA | M4: 28 | N4: S | P4: 15 | Q4: 10 | R4: 6 | S4: 6 | T4: 0 | U4: 300 | V4: 20200101 | W4: 20200101
F5: 33333333 | G5: 3 | J5: 1 | K5: ENFERMERA | M5: 22 | N5: N | P5: 15 | R5: 6 | S5: 6 | T5: 0 | U5: 225 | V5: 20200101 | W5: 20201231

Sheet Programación Medica
A1: Id_Deis | B1: RUTSDV | C1: DV | D1: Correlativo contrato | E1: ID_Especialidad | F1: Especialidad | G1: Id_Actividad | H1: Actividades | I1: Horas asignadas | J1: Rendimiento por Hora | K1: Total Horas semanales del contrato | L1: % asignado del contrato | M1: Total horas semanales contratadas RUN | N1: VC | O1: Horas legales descuento (Congreso o capacitación + Descanso complementario + F. Legales + lactancia + Colación + Permisos administrativos) (Proporcional) | P1: Produccion Estimada Anual | Q1: M. General | R1: Requiere rendimiento
B2: 11111111 | C2: 1 | D2: 1 | E2: =+IFERROR(VLOOKUP(F2,Diccionarios!$C$3:$D$63,2,0),"No Valido") -> 7022135 | F2: CIRUGÍA PLÁSTICA Y REPARADORA PEDIÁTRICA | G2: =+IFERROR(VLOOKUP(H2,Diccionarios!J:M,2,0),"Act. No Ident") -> 1 | H2: Consulta Nueva de especialidad | I2: 23 | J2: 3 | K2: =+SUMIFS(RRHH!$M:$M,RRHH!$F:$F,'Programación Medica'!B2,RRHH!$J:$J,'Programación Medica'!D2) -> 22 | L2: =+IFERROR(I2/K2,0) -> 1.0454545 | M2: =+SUMIF(RRHH!F:F,'Programación Medica'!B2,RRHH!$M:$M) -> 33 | N2: =+SUMIFS(I:I,B:B,B2,D:D,D2)-K2 -> 12 | O2: =IFERROR((IFERROR(VLOOKUP(B2,RRHH!F:S,11,0),0)+IFERROR(VLOOKUP(B2,RRHH!F:S,12,0),0)+IFERROR(VLOOKUP(B2,RRHH!F:S,13,0),0)+IFERROR(VLOOKUP(B2,RRHH!F:S,14,0),0))/5*I2+(250.5-(IFERROR(VLOOKUP(B2,RRHH!F:S,11,0),0)+IFERROR(VLOOKUP(B2,RRHH!F:S,12,0),0)+IFERROR(VLOOKUP(B2,RRHH!F:S,13,0),0)+IFERROR(VLOOKUP(B2,RRHH!F:S,14,0),0)))/5*(IFERROR(VLOOKUP(B2,RRHH!F:U,15,0),0)+IFERROR(VLOOKUP(B2,RRHH!F:U,16,0),0))/60*I2/M2,0) -> 357.85909 | P2: =+IF(R2="R",IFERROR((I2*50.1-O2)*J2,""),"") -> 2383.3227 | R2: =+IFERROR(VLOOKUP(G2,Diccionarios!K:L,2,0),"Act. No ident") -> R
B3: 11111111 | C3: 1 | D3: 1 | E3: =+IFERROR(VLOOKUP(F3,Diccionarios!$C$3:$D$63,2,0),"No Valido") -> 7022135 | F3: CIRUGÍA PLÁSTICA Y REPARADORA PEDIÁTRICA | G3: =+IFERROR(VLOOKUP(H3,Diccionarios!J:M,2,0),"Act. No Ident") -> 2 | H3: Consulta Control de especialidad | I3: 11 | J3: 0.5 | K3: =+SUMIFS(RRHH!$M:$M,RRHH!$F:$F,'Programación Medica'!B3,RRHH!$J:$J,'Programación Medica'!D3) -> 22 | L3: =+IFERROR(I3/K3,0) -> 0.5 | M3: =+SUMIF(RRHH!F:F,'Programación Medica'!B3,RRHH!$M:$M) -> 33 | N3: =+SUMIFS(I:I,B:B,B3,D:D,D3)-K3 -> 12 | O3: =IFERROR((IFERROR(VLOOKUP(B3,RRHH!F:S,11,0),0)+IFERROR(VLOOKUP(B3,RRHH!F:S,12,0),0)+IFERROR(VLOOKUP(B3,RRHH!F:S,13,0),0)+IFERROR(VLOOKUP(B3,RRHH!F:S,14,0),0))/5*I3+(250.5-(IFERROR(VLOOKUP(B3,RRHH!F:S,11,0),0)+IFERROR(VLOOKUP(B3,RRHH!F:S,12,0),0)+IFERROR(VLOOKUP(B3,RRHH!F:S,13,0),0)+IFERROR(VLOOKUP(B3,RRHH!F:S,14,0),0)))/5*(IFERROR(VLOOKUP(B3,RRHH!F:U,15,0),0)+IFERROR(VLOOKUP(B3,RRHH!F:U,16,0),0))/60*I3/M3,0) -> 171.15 | P3: =+IF(R3="R",IFERROR((I3*50.1-O3)*J3,""),"") -> 189.975 | R3: =+IFERROR(VLOOKUP(G3,Diccionarios!K:L,2,0),"Act. No ident") -> R
B4: 11111111 | C4: 1 | D4: 2 | E4: =+IFERROR(VLOOKUP(F4,Diccionarios!$C$3:$D$63,2,0),"No Valido") -> 7022135 | F4: CIRUGÍA PLÁSTICA Y REPARADORA PEDIÁTRICA | G4: =+IFERROR(VLOOKUP(H4,Diccionarios!J:M,2,0),"Act. No Ident") -> 4 | H4: Procedimientos especialidad | I4: 1 | K4: =+SUMIFS(RRHH!$M:$M,RRHH!$F:$F,'Programación Medica'!B4,RRHH!$J:$J,'Programación Medica'!D4) -> 11 | L4: =+IFERROR(I4/K4,0) -> 0.090909091 | M4: =+SUMIF(RRHH!F:F,'Programación Medica'!B4,RRHH!$M:$M) -> 33 | N4: =+SUMIFS(I:I,B:B,B4,D:D,D4)-K4 -> 0 | O4: =IFERROR((IFERROR(VLOOKUP(B4,RRHH!F:S,11,0),0)+IFERROR(VLOOKUP(B4,RRHH!F:S,12,0),0)+IFERROR(VLOOKUP(B4,RRHH!F:S,13,0),0)+IFERROR(VLOOKUP(B4,RRHH!F:S,14,0),0))/5*I4+(250.5-(IFERROR(VLOOKUP(B4,RRHH!F:S,11,0),0)+IFERROR(VLOOKUP(B4,RRHH!F:S,12,0),0)+IFERROR(VLOOKUP(B4,RRHH!F:S,13,0),0)+IFERROR(VLOOKUP(B4,RRHH!F:S,14,0),0)))/5*(IFERROR(VLOOKUP(B4,RRHH!F:U,15,0),0)+IFERROR(VLOOKUP(B4,RRHH!F:U,16,0),0))/60*I4/M4,0) -> 15.559091 | P4: =+IF(R4="R",IFERROR((I4*50.1-O4)*J4,""),"") | R4: =+IFERROR(VLOOKUP(G4,Diccionarios!K:L,2,0),"Act. No ident") -> NR
B5: 11111111 | C5: 1 | D5: 2 | E5: =+IFERROR(VLOOKUP(F5,Diccionarios!$C$3:$D$63,2,0),"No Valido") -> 7022135 | F5: CIRUGÍA PLÁSTICA Y REPARADORA PEDIÁTRICA | G5: =+IFERROR(VLOOKUP(H5,Diccionarios!J:M,2,0),"Act. No Ident") -> 26 | H5: Gestión Organizacional (Administrativo/ Jefatura) | I5: 5 | K5: =+SUMIFS(RRHH!$M:$M,RRHH!$F:$F,'Programación Medica'!B5,RRHH!$J:$J,'Programación Medica'!D5) -> 11 | L5: =+IFERROR(I5/K5,0) -> 0.45454545 | M5: =+SUMIF(RRHH!F:F,'Programación Medica'!B5,RRHH!$M:$M) -> 33 | N5: =+SUMIFS(I:I,B:B,B5,D:D,D5)-K5 -> 0 | O5: =IFERROR((IFERROR(VLOOKUP(B5,RRHH!F:S,11,0),0)+IFERROR(VLOOKUP(B5,RRHH!F:S,12,0),0)+IFERROR(VLOOKUP(B5,RRHH!F:S,13,0),0)+IFERROR(VLOOKUP(B5,RRHH!F:S,14,0),0))/5*I5+(250.5-(IFERROR(VLOOKUP(B5,RRHH!F:S,11,0),0)+IFERROR(VLOOKUP(B5,RRHH!F:S,12,0),0)+IFERROR(VLOOKUP(B5,RRHH!F:S,13,0),0)+IFERROR(VLOOKUP(B5,RRHH!F:S,14,0),0)))/5*(IFERROR(VLOOKUP(B5,RRHH!F:U,15,0),0)+IFERROR(VLOOKUP(B5,RRHH!F:U,16,0),0))/60*I5/M5,0) -> 77.795455 | P5: =+IF(R5="R",IFERROR((I5*50.1-O5)*J5,""),"") | R5: =+IFERROR(VLOOKUP(G5,Diccionarios!K:L,2,0),"Act. No ident") -> NR
B6: 11111111 | C6: 1 | D6: 2 | E6: =+IFERROR(VLOOKUP(F6,Diccionarios!$C$3:$D$63,2,0),"No Valido") -> 7022135 | F6: CIRUGÍA PLÁSTICA Y REPARADORA PEDIÁTRICA | G6: =+IFERROR(VLOOKUP(H6,Diccionarios!J:M,2,0),"Act. No Ident") -> 8 | H6: Pabellon Cirugía Menor | I6: 5 | J6: 0.5 | K6: =+SUMIFS(RRHH!$M:$M,RRHH!$F:$F,'Programación Medica'!B6,RRHH!$J:$J,'Programación Medica'!D6) -> 11 | L6: =+IFERROR(I6/K6,0) -> 0.45454545 | M6: =+SUMIF(RRHH!F:F,'Programación Medica'!B6,RRHH!$M:$M) -> 33 | N6: =+SUMIFS(I:I,B:B,B6,D:D,D6)-K6 -> 0 | O6: =IFERROR((IFERROR(VLOOKUP(B6,RRHH!F:S,11,0),0)+IFERROR(VLOOKUP(B6,RRHH!F:S,12,0),0)+IFERROR(VLOOKUP(B6,RRHH!F:S,13,0),0)+IFERROR(VLOOKUP(B6,RRHH!F:S,14,0),0))/5*I6+(250.5-(IFERROR(VLOOKUP(B6,RRHH!F:S,11,0),0)+IFERROR(VLOOKUP(B6,RRHH!F:S,12,0),0)+IFERROR(VLOOKUP(B6,RRHH!F:S,13,0),0)+IFERROR(VLOOKUP(B6,RRHH!F:S,14,0),0)))/5*(IFERROR(VLOOKUP(B6,RRHH!F:U,15,0),0)+IFERROR(VLOOKUP(B6,RRHH!F:U,16,0),0))/60*I6/M6,0) -> 77.795455 | P6: =+IF(R6="R",IFERROR((I6*50.1-O6)*J6,""),"") -> 86.352273 | R6: =+IFERROR(VLOOKUP(G6,Diccionarios!K:L,2,0),"Act. No ident") -> R
B7: 22222222 | C7: 2 | D7: 1 | E7: =+IFERROR(VLOOKUP(F7,Diccionarios!$C$3:$D$63,2,0),"No Valido") -> 7024219 | F7: CARDIOLOGÍA PEDIÁTRICA | G7: =+IFERROR(VLOOKUP(H7,Diccionarios!J:M,2,0),"Act. No Ident") -> 5 | H7: Turno (Todas las unidades hospitalarias) | I7: 28 | K7: =+SUMIFS(RRHH!$M:$M,RRHH!$F:$F,'Programación Medica'!B7,RRHH!$J:$J,'Programación Medica'!D7) -> 28 | L7: =+IFERROR(I7/K7,0) -> 1 | M7: =+SUMIF(RRHH!F:F,'Programación Medica'!B7,RRHH!$M:$M) -> 28 | N7: =+SUMIFS(I:I,B:B,B7,D:D,D7)-K7 -> 0 | O7: =IFERROR((IFERROR(VLOOKUP(B7,RRHH!F:S,11,0),0)+IFERROR(VLOOKUP(B7,RRHH!F:S,12,0),0)+IFERROR(VLOOKUP(B7,RRHH!F:S,13,0),0)+IFERROR(VLOOKUP(B7,RRHH!F:S,14,0),0))/5*I7+(250.5-(IFERROR(VLOOKUP(B7,RRHH!F:S,11,0),0)+IFERROR(VLOOKUP(B7,RRHH!F:S,12,0),0)+IFERROR(VLOOKUP(B7,RRHH!F:S,13,0),0)+IFERROR(VLOOKUP(B7,RRHH!F:S,14,0),0)))/5*(IFERROR(VLOOKUP(B7,RRHH!F:U,15,0),0)+IFERROR(VLOOKUP(B7,RRHH!F:U,16,0),0))/60*I7/M7,0) -> 420.7 | P7: =+IF(R7="R",IFERROR((I7*50.1-O7)*J7,""),"") | R7: =+IFERROR(VLOOKUP(G7,Diccionarios!K:L,2,0),"Act. No ident") -> NR
E8: =+IFERROR(VLOOKUP(F8,Diccionarios!$C$3:$D$63,2,0),"No Valido") -> No Valido | G8: =+IFERROR(VLOOKUP(H8,Diccionarios!J:M,2,0),"Act. No Ident") -> Act. No Ident | K8: =+SUMIFS(RRHH!$M:$M,RRHH!$F:$F,'Programación Medica'!B8,RRHH!$J:$J,'Programación Medica'!D8) -> 0 | L8: =+IFERROR(I8/K8,0) -> 0 | M8: =+SUMIF(RRHH!F:F,'Programación Medica'!B8,RRHH!$M:$M) -> 0 | N8: =+SUMIFS(I:I,B:B,B8,D:D,D8)-K8 -> 0 | O8: =IFERROR((IFERROR(VLOOKUP(B8,RRHH!F:S,11,0),0)+IFERROR(VLOOKUP(B8,RRHH!F:S,12,0),0)+IFERROR(VLOOKUP(B8,RRHH!F:S,13,0),0)+IFERROR(VLOOKUP(B8,RRHH!F:S,14,0),0))/5*I8+(250.5-(IFERROR(VLOOKUP(B8,RRHH!F:S,11,0),0)+IFERROR(VLOOKUP(B8,RRHH!F:S,12,0),0)+IFERROR(VLOOKUP(B8,RRHH!F:S,13,0),0)+IFERROR(VLOOKUP(B8,RRHH!F:S,14,0),0)))/5*(IFERROR(VLOOKUP(B8,RRHH!F:U,15,0),0)+IFERROR(VLOOKUP(B8,RRHH!F:U,16,0),0))/60*I8/M8,0) -> 0 | P8: =+IF(R8="R",IFERROR((I8*50.1-O8)*J8,""),"") | R8: =+IFERROR(VLOOKUP(G8,Diccionarios!K:L,2,0),"Act. No ident") -> Act. No ident
E9: =+IFERROR(VLOOKUP(F9,Diccionarios!$C$3:$D$63,2,0),"No Valido") -> No Valido | G9: =+IFERROR(VLOOKUP(H9,Diccionarios!J:M,2,0),"Act. No Ident") -> Act. No Ident | K9: =+SUMIFS(RRHH!$M:$M,RRHH!$F:$F,'Programación Medica'!B9,RRHH!$J:$J,'Programación Medica'!D9) -> 0 | L9: =+IFERROR(I9/K9,0) -> 0 | M9: =+SUMIF(RRHH!F:F,'Programación Medica'!B9,RRHH!$M:$M) -> 0 | N9: =+SUMIFS(I:I,B:B,B9,D:D,D9)-K9 -> 0 | O9: =IFERROR((IFERROR(VLOOKUP(B9,RRHH!F:S,11,0),0)+IFERROR(VLOOKUP(B9,RRHH!F:S,12,0),0)+IFERROR(VLOOKUP(B9,RRHH!F:S,13,0),0)+IFERROR(VLOOKUP(B9,RRHH!F:S,14,0),0))/5*I9+(250.5-(IFERROR(VLOOKUP(B9,RRHH!F:S,11,0),0)+IFERROR(VLOOKUP(B9,RRHH!F:S,12,0),0)+IFERROR(VLOOKUP(B9,RRHH!F:S,13,0),0)+IFERROR(VLOOKUP(B9,RRHH!F:S,14,0),0)))/5*(IFERROR(VLOOKUP(B9,RRHH!F:U,15,0),0)+IFERROR(VLOOKUP(B9,RRHH!F:U,16,0),0))/60*I9/M9,0) -> 0 | P9: =+IF(R9="R",IFERROR((I9*50.1-O9)*J9,""),"") | R9: =+IFERROR(VLOOKUP(G9,Diccionarios!K:L,2,0),"Act. No ident") -> Act. No ident
E10: =+IFERROR(VLOOKUP(F10,Diccionarios!$C$3:$D$63,2,0),"No Valido") -> No Valido | G10: =+IFERROR(VLOOKUP(H10,Diccionarios!J:M,2,0),"Act. No Ident") -> Act. No Ident | K10: =+SUMIFS(RRHH!$M:$M,RRHH!$F:$F,'Programación Medica'!B10,RRHH!$J:$J,'Programación Medica'!D10) -> 0 | L10: =+IFERROR(I10/K10,0) -> 0 | M10: =+SUMIF(RRHH!F:F,'Programación Medica'!B10,RRHH!$M:$M) -> 0 | N10: =+SUMIFS(I:I,B:B,B10,D:D,D10)-K10 -> 0 | O10: =IFERROR((IFERROR(VLOOKUP(B10,RRHH!F:S,11,0),0)+IFERROR(VLOOKUP(B10,RRHH!F:S,12,0),0)+IFERROR(VLOOKUP(B10,RRHH!F:S,13,0),0)+IFERROR(VLOOKUP(B10,RRHH!F:S,14,0),0))/5*I10+(250.5-(IFERROR(VLOOKUP(B10,RRHH!F:S,11,0),0)+IFERROR(VLOOKUP(B10,RRHH!F:S,12,0),0)+IFERROR(VLOOKUP(B10,RRHH!F:S,13,0),0)+IFERROR(VLOOKUP(B10,RRHH!F:S,14,0),0)))/5*(IFERROR(VLOOKUP(B10,RRHH!F:U,15,0),0)+IFERROR(VLOOKUP(B10,RRHH!F:U,16,0),0))/60*I10/M10,0) -> 0 | P10: =+IF(R10="R",IFERROR((I10*50.1-O10)*J10,""),"") | R10: =+IFERROR(VLOOKUP(G10,Diccionarios!K:L,2,0),"Act. No ident") -> Act. No ident
E11: =+IFERROR(VLOOKUP(F11,Diccionarios!$C$3:$D$63,2,0),"No Valido") -> No Valido | G11: =+IFERROR(VLOOKUP(H11,Diccionarios!J:M,2,0),"Act. No Ident") -> Act. No Ident | K11: =+SUMIFS(RRHH!$M:$M,RRHH!$F:$F,'Programación Medica'!B11,RRHH!$J:$J,'Programación Medica'!D11) -> 0 | L11: =+IFERROR(I11/K11,0) -> 0 | M11: =+SUMIF(RRHH!F:F,'Programación Medica'!B11,RRHH!$M:$M) -> 0 | N11: =+SUMIFS(I:I,B:B,B11,D:D,D11)-K11 -> 0 | O11: =IFERROR((IFERROR(VLOOKUP(B11,RRHH!F:S,11,0),0)+IFERROR(VLOOKUP(B11,RRHH!F:S,12,0),0)+IFERROR(VLOOKUP(B11,RRHH!F:S,13,0),0)+IFERROR(VLOOKUP(B11,RRHH!F:S,14,0),0))/5*I11+(250.5-(IFERROR(VLOOKUP(B11,RRHH!F:S,11,0),0)+IFERROR(VLOOKUP(B11,RRHH!F:S,12,0),0)+IFERROR(VLOOKUP(B11,RRHH!F:S,13,0),0)+IFERROR(VLOOKUP(B11,RRHH!F:S,14,0),0)))/5*(IFERROR(VLOOKUP(B11,RRHH!F:U,15,0),0)+IFERROR(VLOOKUP(B11,RRHH!F:U,16,0),0))/60*I11/M11,0) -> 0 | P11: =+IF(R11="R",IFERROR((I11*50.1-O11)*J11,""),"") | R11: =+IFERROR(VLOOKUP(G11,Diccionarios!K:L,2,0),"Act. No ident") -> Act. No ident
E12: =+IFERROR(VLOOKUP(F12,Diccionarios!$C$3:$D$63,2,0),"No Valido") -> No Valido | G12: =+IFERROR(VLOOKUP(H12,Diccionarios!J:M,2,0),"Act. No Ident") -> Act. No Ident | K12: =+SUMIFS(RRHH!$M:$M,RRHH!$F:$F,'Programación Medica'!B12,RRHH!$J:$J,'Programación Medica'!D12) -> 0 | L12: =+IFERROR(I12/K12,0) -> 0 | M12: =+SUMIF(RRHH!F:F,'Programación Medica'!B12,RRHH!$M:$M) -> 0 | N12: =+SUMIFS(I:I,B:B,B12,D:D,D12)-K12 -> 0 | O12: =IFERROR((IFERROR(VLOOKUP(B12,RRHH!F:S,11,0),0)+IFERROR(VLOOKUP(B12,RRHH!F:S,12,0),0)+IFERROR(VLOOKUP(B12,RRHH!F:S,13,0),0)+IFERROR(VLOOKUP(B12,RRHH!F:S,14,0),0))/5*I12+(250.5-(IFERROR(VLOOKUP(B12,RRHH!F:S,11,0),0)+IFERROR(VLOOKUP(B12,RRHH!F:S,12,0),0)+IFERROR(VLOOKUP(B12,RRHH!F:S,13,0),0)+IFERROR(VLOOKUP(B12,RRHH!F:S,14,0),0)))/5*(IFERROR(VLOOKUP(B12,RRHH!F:U,15,0),0)+IFERROR(VLOOKUP(B12,RRHH!F:U,16,0),0))/60*I12/M12,0) -> 0 | P12: =+IF(R12="R",IFERROR((I12*50.1-O12)*J12,""),"") | R12: =+IFERROR(VLOOKUP(G12,Diccionarios!K:L,2,0),"Act. No ident") -> Act. No ident
E13: =+IFERROR(VLOOKUP(F13,Diccionarios!$C$3:$D$63,2,0),"No Valido") -> No Valido | G13: =+IFERROR(VLOOKUP(H13,Diccionarios!J:M,2,0),"Act. No Ident") -> Act. No Ident | K13: =+SUMIFS(RRHH!$M:$M,RRHH!$F:$F,'Programación Medica'!B13,RRHH!$J:$J,'Programación Medica'!D13) -> 0 | L13: =+IFERROR(I13/K13,0) -> 0 | M13: =+SUMIF(RRHH!F:F,'Programación Medica'!B13,RRHH!$M:$M) -> 0 | N13: =+SUMIFS(I:I,B:B,B13,D:D,D13)-K13 -> 0 | O13: =IFERROR((IFERROR(VLOOKUP(B13,RRHH!F:S,11,0),0)+IFERROR(VLOOKUP(B13,RRHH!F:S,12,0),0)+IFERROR(VLOOKUP(B13,RRHH!F:S,13,0),0)+IFERROR(VLOOKUP(B13,RRHH!F:S,14,0),0))/5*I13+(250.5-(IFERROR(VLOOKUP(B13,RRHH!F:S,11,0),0)+IFERROR(VLOOKUP(B13,RRHH!F:S,12,0),0)+IFERROR(VLOOKUP(B13,RRHH!F:S,13,0),0)+IFERROR(VLOOKUP(B13,RRHH!F:S,14,0),0)))/5*(IFERROR(VLOOKUP(B13,RRHH!F:U,15,0),0)+IFERROR(VLOOKUP(B13,RRHH!F:U,16,0),0))/60*I13/M13,0) -> 0 | P13: =+IF(R13="R",IFERROR((I13*50.1-O13)*J13,""),"") | R13: =+IFERROR(VLOOKUP(G13,Diccionarios!K:L,2,0),"Act. No ident") -> Act. No ident
E14: =+IFERROR(VLOOKUP(F14,Diccionarios!$C$3:$D$63,2,0),"No Valido") -> No Valido | G14: =+IFERROR(VLOOKUP(H14,Diccionarios!J:M,2,0),"Act. No Ident") -> Act. No Ident | K14: =+SUMIFS(RRHH!$M:$M,RRHH!$F:$F,'Programación Medica'!B14,RRHH!$J:$J,'Programación Medica'!D14) -> 0 | L14: =+IFERROR(I14/K14,0) -> 0 | M14: =+SUMIF(RRHH!F:F,'Programación Medica'!B14,RRHH!$M:$M) -> 0 | N14: =+SUMIFS(I:I,B:B,B14,D:D,D14)-K14 -> 0 | O14: =IFERROR((IFERROR(VLOOKUP(B14,RRHH!F:S,11,0),0)+IFERROR(VLOOKUP(B14,RRHH!F:S,12,0),0)+IFERROR(VLOOKUP(B14,RRHH!F:S,13,0),0)+IFERROR(VLOOKUP(B14,RRHH!F:S,14,0),0))/5*I14+(250.5-(IFERROR(VLOOKUP(B14,RRHH!F:S,11,0),0)+IFERROR(VLOOKUP(B14,RRHH!F:S,12,0),0)+IFERROR(VLOOKUP(B14,RRHH!F:S,13,0),0)+IFERROR(VLOOKUP(B14,RRHH!F:S,14,0),0)))/5*(IFERROR(VLOOKUP(B14,RRHH!F:U,15,0),0)+IFERROR(VLOOKUP(B14,RRHH!F:U,16,0),0))/60*I14/M14,0) -> 0 | P14: =+IF(R14="R",IFERROR((I14*50.1-O14)*J14,""),"") | R14: =+IFERROR(VLOOKUP(G14,Diccionarios!K:L,2,0),"Act. No ident") -> Act. No ident
E15: =+IFERROR(VLOOKUP(F15,Diccionarios!$C$3:$D$63,2,0),"No Valido") -> No Valido | G15: =+IFERROR(VLOOKUP(H15,Diccionarios!J:M,2,0),"Act. No Ident") -> Act. No Ident | K15: =+SUMIFS(RRHH!$M:$M,RRHH!$F:$F,'Programación Medica'!B15,RRHH!$J:$J,'Programación Medica'!D15) -> 0 | L15: =+IFERROR(I15/K15,0) -> 0 | M15: =+SUMIF(RRHH!F:F,'Programación Medica'!B15,RRHH!$M:$M) -> 0 | N15: =+SUMIFS(I:I,B:B,B15,D:D,D15)-K15 -> 0 | O15: =IFERROR((IFERROR(VLOOKUP(B15,RRHH!F:S,11,0),0)+IFERROR(VLOOKUP(B15,RRHH!F:S,12,0),0)+IFERROR(VLOOKUP(B15,RRHH!F:S,13,0),0)+IFERROR(VLOOKUP(B15,RRHH!F:S,14,0),0))/5*I15+(250.5-(IFERROR(VLOOKUP(B15,RRHH!F:S,11,0),0)+IFERROR(VLOOKUP(B15,RRHH!F:S,12,0),0)+IFERROR(VLOOKUP(B15,RRHH!F:S,13,0),0)+IFERROR(VLOOKUP(B15,RRHH!F:S,14,0),0)))/5*(IFERROR(VLOOKUP(B15,RRHH!F:U,15,0),0)+IFERROR(VLOOKUP(B15,RRHH!F:U,16,0),0))/60*I15/M15,0) -> 0 | P15: =+IF(R15="R",IFERROR((I15*50.1-O15)*J15,""),"") | R15: =+IFERROR(VLOOKUP(G15,Diccionarios!K:L,2,0),"Act. No ident") -> Act. No ident
E16: =+IFERROR(VLOOKUP(F16,Diccionarios!$C$3:$D$63,2,0),"No Valido") -> No Valido | G16: =+IFERROR(VLOOKUP(H16,Diccionarios!J:M,2,0),"Act. No Ident") -> Act. No Ident | K16: =+SUMIFS(RRHH!$M:$M,RRHH!$F:$F,'Programación Medica'!B16,RRHH!$J:$J,'Programación Medica'!D16) -> 0 | L16: =+IFERROR(I16/K16,0) -> 0 | M16: =+SUMIF(RRHH!F:F,'Programación Medica'!B16,RRHH!$M:$M) -> 0 | N16: =+SUMIFS(I:I,B:B,B16,D:D,D16)-K16 -> 0 | O16: =IFERROR((IFERROR(VLOOKUP(B16,RRHH!F:S,11,0),0)+IFERROR(VLOOKUP(B16,RRHH!F:S,12,0),0)+IFERROR(VLOOKUP(B16,RRHH!F:S,13,0),0)+IFERROR(VLOOKUP(B16,RRHH!F:S,14,0),0))/5*I16+(250.5-(IFERROR(VLOOKUP(B16,RRHH!F:S,11,0),0)+IFERROR(VLOOKUP(B16,RRHH!F:S,12,0),0)+IFERROR(VLOOKUP(B16,RRHH!F:S,13,0),0)+IFERROR(VLOOKUP(B16,RRHH!F:S,14,0),0)))/5*(IFERROR(VLOOKUP(B16,RRHH!F:U,15,0),0)+IFERROR(VLOOKUP(B16,RRHH!F:U,16,0),0))/60*I16/M16,0) -> 0 | P16: =+IF(R16="R",IFERROR((I16*50.1-O16)*J16,""),"") | R16: =+IFERROR(VLOOKUP(G16,Diccionarios!K:L,2,0),"Act. No ident") -> Act. No ident
E17: =+IFERROR(VLOOKUP(F17,Diccionarios!$C$3:$D$63,2,0),"No Valido") -> No Valido | G17: =+IFERROR(VLOOKUP(H17,Diccionarios!J:M,2,0),"Act. No Ident") -> Act. No Ident | K17: =+SUMIFS(RRHH!$M:$M,RRHH!$F:$F,'Programación Medica'!B17,RRHH!$J:$J,'Programación Medica'!D17) -> 0 | L17: =+IFERROR(I17/K17,0) -> 0 | M17: =+SUMIF(RRHH!F:F,'Programación Medica'!B17,RRHH!$M:$M) -> 0 | N17: =+SUMIFS(I:I,B:B,B17,D:D,D17)-K17 -> 0 | O17: =IFERROR((IFERROR(VLOOKUP(B17,RRHH!F:S,11,0),0)+IFERROR(VLOOKUP(B17,RRHH!F:S,12,0),0)+IFERROR(VLOOKUP(B17,RRHH!F:S,13,0),0)+IFERROR(VLOOKUP(B17,RRHH!F:S,14,0),0))/5*I17+(250.5-(IFERROR(VLOOKUP(B17,RRHH!F:S,11,0),0)+IFERROR(VLOOKUP(B17,RRHH!F:S,12,0),0)+IFERROR(VLOOKUP(B17,RRHH!F:S,13,0),0)+IFERROR(VLOOKUP(B17,RRHH!F:S,14,0),0)))/5*(IFERROR(VLOOKUP(B17,RRHH!F:U,15,0),0)+IFERROR(VLOOKUP(B17,RRHH!F:U,16,0),0))/60*I17/M17,0) -> 0 | P17: =+IF(R17="R",IFERROR((I17*50.1-O17)*J17,""),"") | R17: =+IFERROR(VLOOKUP(G17,Diccionarios!K:L,2,0),"Act. No ident") -> Act. No ident
E18: =+IFERROR(VLOOKUP(F18,Diccionarios!$C$3:$D$63,2,0),"No Valido") -> No Valido | G18: =+IFERROR(VLOOKUP(H18,Diccionarios!J:M,2,0),"Act. No Ident") -> Act. No Ident | K18: =+SUMIFS(RRHH!$M:$M,RRHH!$F:$F,'Programación Medica'!B18,RRHH!$J:$J,'Programación Medica'!D18) -> 0 | L18: =+IFERROR(I18/K18,0) -> 0 | M18: =+SUMIF(RRHH!F:F,'Programación Medica'!B18,RRHH!$M:$M) -> 0 | N18: =+SUMIFS(I:I,B:B,B18,D:D,D18)-K18 -> 0 | O18: =IFERROR((IFERROR(VLOOKUP(B18,RRHH!F:S,11,0),0)+IFERROR(VLOOKUP(B18,RRHH!F:S,12,0),0)+IFERROR(VLOOKUP(B18,RRHH!F:S,13,0),0)+IFERROR(VLOOKUP(B18,RRHH!F:S,14,0),0))/5*I18+(250.5-(IFERROR(VLOOKUP(B18,RRHH!F:S,11,0),0)+IFERROR(VLOOKUP(B18,RRHH!F:S,12,0),0)+IFERROR(VLOOKUP(B18,RRHH!F:S,13,0),0)+IFERROR(VLOOKUP(B18,RRHH!F:S,14,0),0)))/5*(IFERROR(VLOOKUP(B18,RRHH!F:U,15,0),0)+IFERROR(VLOOKUP(B18,RRHH!F:U,16,0),0))/60*I18/M18,0) -> 0 | P18: =+IF(R18="R",IFERROR((I18*50.1-O18)*J18,""),"") | R18: =+IFERROR(VLOOKUP(G18,Diccionarios!K:L,2,0),"Act. No ident") -> Act. No ident
E19: =+IFERROR(VLOOKUP(F19,Diccionarios!$C$3:$D$63,2,0),"No Valido") -> No Valido | G19: =+IFERROR(VLOOKUP(H19,Diccionarios!J:M,2,0),"Act. No Ident") -> Act. No Ident | K19: =+SUMIFS(RRHH!$M:$M,RRHH!$F:$F,'Programación Medica'!B19,RRHH!$J:$J,'Programación Medica'!D19) -> 0 | L19: =+IFERROR(I19/K19,0) -> 0 | M19: =+SUMIF(RRHH!F:F,'Programación Medica'!B19,RRHH!$M:$M) -> 0 | N19: =+SUMIFS(I:I,B:B,B19,D:D,D19)-K19 -> 0 | O19: =IFERROR((IFERROR(VLOOKUP(B19,RRHH!F:S,11,0),0)+IFERROR(VLOOKUP(B19,RRHH!F:S,12,0),0)+IFERROR(VLOOKUP(B19,RRHH!F:S,13,0),0)+IFERROR(VLOOKUP(B19,RRHH!F:S,14,0),0))/5*I19+(250.5-(IFERROR(VLOOKUP(B19,RRHH!F:S,11,0),0)+IFERROR(VLOOKUP(B19,RRHH!F:S,12,0),0)+IFERROR(VLOOKUP(B19,RRHH!F:S,13,0),0)+IFERROR(VLOOKUP(B19,RRHH!F:S,14,0),0)))/5*(IFERROR(VLOOKUP(B19,RRHH!F:U,15,0),0)+IFERROR(VLOOKUP(B19,RRHH!F:U,16,0),0))/60*I19/M19,0) -> 0 | P19: =+IF(R19="R",IFERROR((I19*50.1-O19)*J19,""),"") | R19: =+IFERROR(VLOOKUP(G19,Diccionarios!K:L,2,0),"Act. No ident") -> Act. No ident
... E110: =+IFERROR(VLOOKUP(F110,Diccionarios!$C$3:$D$63,2,0),"No Valido") -> No Valido | G110: =+IFERROR(VLOOKUP(H110,Diccionarios!J:M,2,0),"Act. No Ident") -> Act. No Ident | K110: =+SUMIFS(RRHH!$M:$M,RRHH!$F:$F,'Programación Medica'!B110,RRHH!$J:$J,'Programación Medica'!D110) -> 0 | L110: =+IFERROR(I110/K110,0) -> 0 | M110: =+SUMIF(RRHH!F:F,'Programación Medica'!B110,RRHH!$M:$M) -> 0 | N110: =+SUMIFS(I:I,B:B,B110,D:D,D110)-K110 -> 0 | O110: =IFERROR((IFERROR(VLOOKUP(B110,RRHH!F:S,11,0),0)+IFERROR(VLOOKUP(B110,RRHH!F:S,12,0),0)+IFERROR(VLOOKUP(B110,RRHH!F:S,13,0),0)+IFERROR(VLOOKUP(B110,RRHH!F:S,14,0),0))/5*I110+(250.5-(IFERROR(VLOOKUP(B110,RRHH!F:S,11,0),0)+IFERROR(VLOOKUP(B110,RRHH!F:S,12,0),0)+IFERROR(VLOOKUP(B110,RRHH!F:S,13,0),0)+IFERROR(VLOOKUP(B110,RRHH!F:S,14,0),0)))/5*(IFERROR(VLOOKUP(B110,RRHH!F:U,15,0),0)+IFERROR(VLOOKUP(B110,RRHH!F:U,16,0),0))/60*I110/M110,0) -> 0 | P110: =+IF(R110="R",IFERROR((I110*50.1-O110)*J110,""),"") | R110: =+IFERROR(VLOOKUP(G110,Diccionarios!K:L,2,0),"Act. No ident") -> Act. No ident

Sheet Programación No Medica
A1: Id_Deis | B1: RUTSDV | C1: DV | D1: Correlativo Contrato | E1: Id_Profesión | F1: Profesión | G1: Id_Actividad | H1: Actividad | I1: Horas asignadas | J1: Rendimiento por Hora | K1: Total Horas semanales al contrato | L1: % asignado del contrato | M1: Total horas semanales contratadas RUN | N1: VC | O1: Horas legales descuento (Congreso o capacitación + Descanso complementario + F. Legales + lactancia + Colación + Permisos administrativos) (Proporcional) | P1: Produccion Estimada Anual | Q1: Requiere rendimiento
B2: 33333333 | C2: 3 | D2: 1 | E2: =+IFERROR(VLOOKUP(F2,Busc!$A$2:$B$11,2,0),"Prof No Val") -> 6 | F2: FONOAUDIOLOGO | G2: =+IFERROR(VLOOKUP(H2,Diccionarios!Q:S,2,0),"Act No enc.") -> 60 | H2: Evaluación intermedia | I2: 22 | J2: 4 | K2: =++SUMIFS(RRHH!$M:$M,RRHH!$F:$F,'Programación No Medica'!B2,RRHH!$J:$J,'Programación No Medica'!D2) -> 22 | L2: =+IFERROR(I2/K2,0) -> 1 | M2: =++SUMIF(RRHH!F:F,'Programación No Medica'!B2,RRHH!$M:$M) -> 22 | N2: =+SUMIFS(I:I,B:B,B2,D:D,D2)-K2 -> 0 | O2: =IFERROR((IFERROR(VLOOKUP(B2,RRHH!F:S,11,0),0)+IFERROR(VLOOKUP(B2,RRHH!F:S,12,0),0)+IFERROR(VLOOKUP(B2,RRHH!F:S,13,0),0)+IFERROR(VLOOKUP(B2,RRHH!F:S,14,0),0))/5*I2+(250.5-(IFERROR(VLOOKUP(B2,RRHH!F:S,11,0),0)+IFERROR(VLOOKUP(B2,RRHH!F:S,12,0),0)+IFERROR(VLOOKUP(B2,RRHH!F:S,13,0),0)+IFERROR(VLOOKUP(B2,RRHH!F:S,14,0),0)))/5*(IFERROR(VLOOKUP(B2,RRHH!F:U,15,0),0)+IFERROR(VLOOKUP(B2,RRHH!F:U,16,0),0))/60*I2/M2,0) -> 286.425 | P2: =+IF(Q2="R",IFERROR((I2*50.1-O2)*J2,""),"") -> 3263.1 | Q2: =+IFERROR(VLOOKUP(G2,Diccionarios!R:S,2,0),"Act. No ident") -> R
E3: =+IFERROR(VLOOKUP(F3,Busc!$A$2:$B$11,2,0),"Prof No Val") -> Prof No Val | G3: =+IFERROR(VLOOKUP(H3,Diccionarios!Q:S,2,0),"Act No enc.") -> Act No enc. | K3: =++SUMIFS(RRHH!$M:$M,RRHH!$F:$F,'Programación No Medica'!B3,RRHH!$J:$J,'Programación No Medica'!D3) -> 0 | L3: =+IFERROR(I3/K3,0) -> 0 | M3: =++SUMIF(RRHH!F:F,'Programación No Medica'!B3,RRHH!$M:$M) -> 0 | N3: =+SUMIFS(I:I,B:B,B3,D:D,D3)-K3 -> 0 | O3: =IFERROR((IFERROR(VLOOKUP(B3,RRHH!F:S,11,0),0)+IFERROR(VLOOKUP(B3,RRHH!F:S,12,0),0)+IFERROR(VLOOKUP(B3,RRHH!F:S,13,0),0)+IFERROR(VLOOKUP(B3,RRHH!F:S,14,0),0))/5*I3+(250.5-(IFERROR(VLOOKUP(B3,RRHH!F:S,11,0),0)+IFERROR(VLOOKUP(B3,RRHH!F:S,12,0),0)+IFERROR(VLOOKUP(B3,RRHH!F:S,13,0),0)+IFERROR(VLOOKUP(B3,RRHH!F:S,14,0),0)))/5*(IFERROR(VLOOKUP(B3,RRHH!F:U,15,0),0)+IFERROR(VLOOKUP(B3,RRHH!F:U,16,0),0))/60*I3/M3,0) -> 0 | P3: =+IF(Q3="R",IFERROR((I3*50.1-O3)*J3,""),"") | Q3: =+IFERROR(VLOOKUP(G3,Diccionarios!R:S,2,0),"Act. No ident") -> Act. No ident
E4: =+IFERROR(VLOOKUP(F4,Busc!$A$2:$B$11,2,0),"Prof No Val") -> Prof No Val | G4: =+IFERROR(VLOOKUP(H4,Diccionarios!Q:S,2,0),"Act No enc.") -> Act No enc. | K4: =++SUMIFS(RRHH!$M:$M,RRHH!$F:$F,'Programación No Medica'!B4,RRHH!$J:$J,'Programación No Medica'!D4) -> 0 | L4: =+IFERROR(I4/K4,0) -> 0 | M4: =++SUMIF(RRHH!F:F,'Programación No Medica'!B4,RRHH!$M:$M) -> 0 | N4: =+SUMIFS(I:I,B:B,B4,D:D,D4)-K4 -> 0 | O4: =IFERROR((IFERROR(VLOOKUP(B4,RRHH!F:S,11,0),0)+IFERROR(VLOOKUP(B4,RRHH!F:S,12,0),0)+IFERROR(VLOOKUP(B4,RRHH!F:S,13,0),0)+IFERROR(VLOOKUP(B4,RRHH!F:S,14,0),0))/5*I4+(250.5-(IFERROR(VLOOKUP(B4,RRHH!F:S,11,0),0)+IFERROR(VLOOKUP(B4,RRHH!F:S,12,0),0)+IFERROR(VLOOKUP(B4,RRHH!F:S,13,0),0)+IFERROR(VLOOKUP(B4,RRHH!F:S,14,0),0)))/5*(IFERROR(VLOOKUP(B4,RRHH!F:U,15,0),0)+IFERROR(VLOOKUP(B4,RRHH!F:U,16,0),0))/60*I4/M4,0) -> 0 | P4: =+IF(Q4="R",IFERROR((I4*50.1-O4)*J4,""),"") | Q4: =+IFERROR(VLOOKUP(G4,Diccionarios!R:S,2,0),"Act. No ident") -> Act. No ident
E5: =+IFERROR(VLOOKUP(F5,Busc!$A$2:$B$11,2,0),"Prof No Val") -> Prof No Val | G5: =+IFERROR(VLOOKUP(H5,Diccionarios!Q:S,2,0),"Act No enc.") -> Act No enc. | K5: =++SUMIFS(RRHH!$M:$M,RRHH!$F:$F,'Programación No Medica'!B5,RRHH!$J:$J,'Programación No Medica'!D5) -> 0 | L5: =+IFERROR(I5/K5,0) -> 0 | M5: =++SUMIF(RRHH!F:F,'Programación No Medica'!B5,RRHH!$M:$M) -> 0 | N5: =+SUMIFS(I:I,B:B,B5,D:D,D5)-K5 -> 0 | O5: =IFERROR((IFERROR(VLOOKUP(B5,RRHH!F:S,11,0),0)+IFERROR(VLOOKUP(B5,RRHH!F:S,12,0),0)+IFERROR(VLOOKUP(B5,RRHH!F:S,13,0),0)+IFERROR(VLOOKUP(B5,RRHH!F:S,14,0),0))/5*I5+(250.5-(IFERROR(VLOOKUP(B5,RRHH!F:S,11,0),0)+IFERROR(VLOOKUP(B5,RRHH!F:S,12,0),0)+IFERROR(VLOOKUP(B5,RRHH!F:S,13,0),0)+IFERROR(VLOOKUP(B5,RRHH!F:S,14,0),0)))/5*(IFERROR(VLOOKUP(B5,RRHH!F:U,15,0),0)+IFERROR(VLOOKUP(B5,RRHH!F:U,16,0),0))/60*I5/M5,0) -> 0 | P5: =+IF(Q5="R",IFERROR((I5*50.1-O5)*J5,""),"") | Q5: =+IFERROR(VLOOKUP(G5,Diccionarios!R:S,2,0),"Act. No ident") -> Act. No ident
E6: =+IFERROR(VLOOKUP(F6,Busc!$A$2:$B$11,2,0),"Prof No Val") -> Prof No Val | G6: =+IFERROR(VLOOKUP(H6,Diccionarios!Q:S,2,0),"Act No enc.") -> Act No enc. | K6: =++SUMIFS(RRHH!$M:$M,RRHH!$F:$F,'Programación No Medica'!B6,RRHH!$J:$J,'Programación No Medica'!D6) -> 0 | L6: =+IFERROR(I6/K6,0) -> 0 | M6: =++SUMIF(RRHH!F:F,'Programación No Medica'!B6,RRHH!$M:$M) -> 0 | N6: =+SUMIFS(I:I,B:B,B6,D:D,D6)-K6 -> 0 | O6: =IFERROR((IFERROR(VLOOKUP(B6,RRHH!F:S,11,0),0)+IFERROR(VLOOKUP(B6,RRHH!F:S,12,0),0)+IFERROR(VLOOKUP(B6,RRHH!F:S,13,0),0)+IFERROR(VLOOKUP(B6,RRHH!F:S,14,0),0))/5*I6+(250.5-(IFERROR(VLOOKUP(B6,RRHH!F:S,11,0),0)+IFERROR(VLOOKUP(B6,RRHH!F:S,12,0),0)+IFERROR(VLOOKUP(B6,RRHH!F:S,13,0),0)+IFERROR(VLOOKUP(B6,RRHH!F:S,14,0),0)))/5*(IFERROR(VLOOKUP(B6,RRHH!F:U,15,0),0)+IFERROR(VLOOKUP(B6,RRHH!F:U,16,0),0))/60*I6/M6,0) -> 0 | P6: =+IF(Q6="R",IFERROR((I6*50.1-O6)*J6,""),"") | Q6: =+IFERROR(VLOOKUP(G6,Diccionarios!R:S,2,0),"Act. No ident") -> Act. No ident
E7: =+IFERROR(VLOOKUP(F7,Busc!$A$2:$B$11,2,0),"Prof No Val") -> Prof No Val | G7: =+IFERROR(VLOOKUP(H7,Diccionarios!Q:S,2,0),"Act No enc.") -> Act No enc. | K7: =++SUMIFS(RRHH!$M:$M,RRHH!$F:$F,'Programación No Medica'!B7,RRHH!$J:$J,'Programación No Medica'!D7) -> 0 | L7: =+IFERROR(I7/K7,0) -> 0 | M7: =++SUMIF(RRHH!F:F,'Programación No Medica'!B7,RRHH!$M:$M) -> 0 | N7: =+SUMIFS(I:I,B:B,B7,D:D,D7)-K7 -> 0 | O7: =IFERROR((IFERROR(VLOOKUP(B7,RRHH!F:S,11,0),0)+IFERROR(VLOOKUP(B7,RRHH!F:S,12,0),0)+IFERROR(VLOOKUP(B7,RRHH!F:S,13,0),0)+IFERROR(VLOOKUP(B7,RRHH!F:S,14,0),0))/5*I7+(250.5-(IFERROR(VLOOKUP(B7,RRHH!F:S,11,0),0)+IFERROR(VLOOKUP(B7,RRHH!F:S,12,0),0)+IFERROR(VLOOKUP(B7,RRHH!F:S,13,0),0)+IFERROR(VLOOKUP(B7,RRHH!F:S,14,0),0)))/5*(IFERROR(VLOOKUP(B7,RRHH!F:U,15,0),0)+IFERROR(VLOOKUP(B7,RRHH!F:U,16,0),0))/60*I7/M7,0) -> 0 | P7: =+IF(Q7="R",IFERROR((I7*50.1-O7)*J7,""),"") | Q7: =+IFERROR(VLOOKUP(G7,Diccionarios!R:S,2,0),"Act. No ident") -> Act. No ident
E8: =+IFERROR(VLOOKUP(F8,Busc!$A$2:$B$11,2,0),"Prof No Val") -> Prof No Val | G8: =+IFERROR(VLOOKUP(H8,Diccionarios!Q:S,2,0),"Act No enc.") -> Act No enc. | K8: =++SUMIFS(RRHH!$M:$M,RRHH!$F:$F,'Programación No Medica'!B8,RRHH!$J:$J,'Programación No Medica'!D8) -> 0 | L8: =+IFERROR(I8/K8,0) -> 0 | M8: =++SUMIF(RRHH!F:F,'Programación No Medica'!B8,RRHH!$M:$M) -> 0 | N8: =+SUMIFS(I:I,B:B,B8,D:D,D8)-K8 -> 0 | O8: =IFERROR((IFERROR(VLOOKUP(B8,RRHH!F:S,11,0),0)+IFERROR(VLOOKUP(B8,RRHH!F:S,12,0),0)+IFERROR(VLOOKUP(B8,RRHH!F:S,13,0),0)+IFERROR(VLOOKUP(B8,RRHH!F:S,14,0),0))/5*I8+(250.5-(IFERROR(VLOOKUP(B8,RRHH!F:S,11,0),0)+IFERROR(VLOOKUP(B8,RRHH!F:S,12,0),0)+IFERROR(VLOOKUP(B8,RRHH!F:S,13,0),0)+IFERROR(VLOOKUP(B8,RRHH!F:S,14,0),0)))/5*(IFERROR(VLOOKUP(B8,RRHH!F:U,15,0),0)+IFERROR(VLOOKUP(B8,RRHH!F:U,16,0),0))/60*I8/M8,0) -> 0 | P8: =+IF(Q8="R",IFERROR((I8*50.1-O8)*J8,""),"") | Q8: =+IFERROR(VLOOKUP(G8,Diccionarios!R:S,2,0),"Act. No ident") -> Act. No ident
E9: =+IFERROR(VLOOKUP(F9,Busc!$A$2:$B$11,2,0),"Prof No Val") -> Prof No Val | G9: =+IFERROR(VLOOKUP(H9,Diccionarios!Q:S,2,0),"Act No enc.") -> Act No enc. | K9: =++SUMIFS(RRHH!$M:$M,RRHH!$F:$F,'Programación No Medica'!B9,RRHH!$J:$J,'Programación No Medica'!D9) -> 0 | L9: =+IFERROR(I9/K9,0) -> 0 | M9: =++SUMIF(RRHH!F:F,'Programación No Medica'!B9,RRHH!$M:$M) -> 0 | N9: =+SUMIFS(I:I,B:B,B9,D:D,D9)-K9 -> 0 | O9: =IFERROR((IFERROR(VLOOKUP(B9,RRHH!F:S,11,0),0)+IFERROR(VLOOKUP(B9,RRHH!F:S,12,0),0)+IFERROR(VLOOKUP(B9,RRHH!F:S,13,0),0)+IFERROR(VLOOKUP(B9,RRHH!F:S,14,0),0))/5*I9+(250.5-(IFERROR(VLOOKUP(B9,RRHH!F:S,11,0),0)+IFERROR(VLOOKUP(B9,RRHH!F:S,12,0),0)+IFERROR(VLOOKUP(B9,RRHH!F:S,13,0),0)+IFERROR(VLOOKUP(B9,RRHH!F:S,14,0),0)))/5*(IFERROR(VLOOKUP(B9,RRHH!F:U,15,0),0)+IFERROR(VLOOKUP(B9,RRHH!F:U,16,0),0))/60*I9/M9,0) -> 0 | P9: =+IF(Q9="R",IFERROR((I9*50.1-O9)*J9,""),"") | Q9: =+IFERROR(VLOOKUP(G9,Diccionarios!R:S,2,0),"Act. No ident") -> Act. No ident
E10: =+IFERROR(VLOOKUP(F10,Busc!$A$2:$B$11,2,0),"Prof No Val") -> Prof No Val | G10: =+IFERROR(VLOOKUP(H10,Diccionarios!Q:S,2,0),"Act No enc.") -> Act No enc. | K10: =++SUMIFS(RRHH!$M:$M,RRHH!$F:$F,'Programación No Medica'!B10,RRHH!$J:$J,'Programación No Medica'!D10) -> 0 | L10: =+IFERROR(I10/K10,0) -> 0 | M10: =++SUMIF(RRHH!F:F,'Programación No Medica'!B10,RRHH!$M:$M) -> 0 | N10: =+SUMIFS(I:I,B:B,B10,D:D,D10)-K10 -> 0 | O10: =IFERROR((IFERROR(VLOOKUP(B10,RRHH!F:S,11,0),0)+IFERROR(VLOOKUP(B10,RRHH!F:S,12,0),0)+IFERROR(VLOOKUP(B10,RRHH!F:S,13,0),0)+IFERROR(VLOOKUP(B10,RRHH!F:S,14,0),0))/5*I10+(250.5-(IFERROR(VLOOKUP(B10,RRHH!F:S,11,0),0)+IFERROR(VLOOKUP(B10,RRHH!F:S,12,0),0)+IFERROR(VLOOKUP(B10,RRHH!F:S,13,0),0)+IFERROR(VLOOKUP(B10,RRHH!F:S,14,0),0)))/5*(IFERROR(VLOOKUP(B10,RRHH!F:U,15,0),0)+IFERROR(VLOOKUP(B10,RRHH!F:U,16,0),0))/60*I10/M10,0) -> 0 | P10: =+IF(Q10="R",IFERROR((I10*50.1-O10)*J10,""),"") | Q10: =+IFERROR(VLOOKUP(G10,Diccionarios!R:S,2,0),"Act. No ident") -> Act. No ident
E11: =+IFERROR(VLOOKUP(F11,Busc!$A$2:$B$11,2,0),"Prof No Val") -> Prof No Val | G11: =+IFERROR(VLOOKUP(H11,Diccionarios!Q:S,2,0),"Act No enc.") -> Act No enc. | K11: =++SUMIFS(RRHH!$M:$M,RRHH!$F:$F,'Programación No Medica'!B11,RRHH!$J:$J,'Programación No Medica'!D11) -> 0 | L11: =+IFERROR(I11/K11,0) -> 0 | M11: =++SUMIF(RRHH!F:F,'Programación No Medica'!B11,RRHH!$M:$M) -> 0 | N11: =+SUMIFS(I:I,B:B,B11,D:D,D11)-K11 -> 0 | O11: =IFERROR((IFERROR(VLOOKUP(B11,RRHH!F:S,11,0),0)+IFERROR(VLOOKUP(B11,RRHH!F:S,12,0),0)+IFERROR(VLOOKUP(B11,RRHH!F:S,13,0),0)+IFERROR(VLOOKUP(B11,RRHH!F:S,14,0),0))/5*I11+(250.5-(IFERROR(VLOOKUP(B11,RRHH!F:S,11,0),0)+IFERROR(VLOOKUP(B11,RRHH!F:S,12,0),0)+IFERROR(VLOOKUP(B11,RRHH!F:S,13,0),0)+IFERROR(VLOOKUP(B11,RRHH!F:S,14,0),0)))/5*(IFERROR(VLOOKUP(B11,RRHH!F:U,15,0),0)+IFERROR(VLOOKUP(B11,RRHH!F:U,16,0),0))/60*I11/M11,0) -> 0 | P11: =+IF(Q11="R",IFERROR((I11*50.1-O11)*J11,""),"") | Q11: =+IFERROR(VLOOKUP(G11,Diccionarios!R:S,2,0),"Act. No ident") -> Act. No ident
E12: =+IFERROR(VLOOKUP(F12,Busc!$A$2:$B$11,2,0),"Prof No Val") -> Prof No Val | G12: =+IFERROR(VLOOKUP(H12,Diccionarios!Q:S,2,0),"Act No enc.") -> Act No enc. | K12: =++SUMIFS(RRHH!$M:$M,RRHH!$F:$F,'Programación No Medica'!B12,RRHH!$J:$J,'Programación No Medica'!D12) -> 0 | L12: =+IFERROR(I12/K12,0) -> 0 | M12: =++SUMIF(RRHH!F:F,'Programación No Medica'!B12,RRHH!$M:$M) -> 0 | N12: =+SUMIFS(I:I,B:B,B12,D:D,D12)-K12 -> 0 | O12: =IFERROR((IFERROR(VLOOKUP(B12,RRHH!F:S,11,0),0)+IFERROR(VLOOKUP(B12,RRHH!F:S,12,0),0)+IFERROR(VLOOKUP(B12,RRHH!F:S,13,0),0)+IFERROR(VLOOKUP(B12,RRHH!F:S,14,0),0))/5*I12+(250.5-(IFERROR(VLOOKUP(B12,RRHH!F:S,11,0),0)+IFERROR(VLOOKUP(B12,RRHH!F:S,12,0),0)+IFERROR(VLOOKUP(B12,RRHH!F:S,13,0),0)+IFERROR(VLOOKUP(B12,RRHH!F:S,14,0),0)))/5*(IFERROR(VLOOKUP(B12,RRHH!F:U,15,0),0)+IFERROR(VLOOKUP(B12,RRHH!F:U,16,0),0))/60*I12/M12,0) -> 0 | P12: =+IF(Q12="R",IFERROR((I12*50.1-O12)*J12,""),"") | Q12: =+IFERROR(VLOOKUP(G12,Diccionarios!R:S,2,0),"Act. No ident") -> Act. No ident
E13: =+IFERROR(VLOOKUP(F13,Busc!$A$2:$B$11,2,0),"Prof No Val") -> Prof No Val | G13: =+IFERROR(VLOOKUP(H13,Diccionarios!Q:S,2,0),"Act No enc.") -> Act No enc. | K13: =++SUMIFS(RRHH!$M:$M,RRHH!$F:$F,'Programación No Medica'!B13,RRHH!$J:$J,'Programación No Medica'!D13) -> 0 | L13: =+IFERROR(I13/K13,0) -> 0 | M13: =++SUMIF(RRHH!F:F,'Programación No Medica'!B13,RRHH!$M:$M) -> 0 | N13: =+SUMIFS(I:I,B:B,B13,D:D,D13)-K13 -> 0 | O13: =IFERROR((IFERROR(VLOOKUP(B13,RRHH!F:S,11,0),0)+IFERROR(VLOOKUP(B13,RRHH!F:S,12,0),0)+IFERROR(VLOOKUP(B13,RRHH!F:S,13,0),0)+IFERROR(VLOOKUP(B13,RRHH!F:S,14,0),0))/5*I13+(250.5-(IFERROR(VLOOKUP(B13,RRHH!F:S,11,0),0)+IFERROR(VLOOKUP(B13,RRHH!F:S,12,0),0)+IFERROR(VLOOKUP(B13,RRHH!F:S,13,0),0)+IFERROR(VLOOKUP(B13,RRHH!F:S,14,0),0)))/5*(IFERROR(VLOOKUP(B13,RRHH!F:U,15,0),0)+IFERROR(VLOOKUP(B13,RRHH!F:U,16,0),0))/60*I13/M13,0) -> 0 | P13: =+IF(Q13="R",IFERROR((I13*50.1-O13)*J13,""),"") | Q13: =+IFERROR(VLOOKUP(G13,Diccionarios!R:S,2,0),"Act. No ident") -> Act. No ident
E14: =+IFERROR(VLOOKUP(F14,Busc!$A$2:$B$11,2,0),"Prof No Val") -> Prof No Val | G14: =+IFERROR(VLOOKUP(H14,Diccionarios!Q:S,2,0),"Act No enc.") -> Act No enc. | K14: =++SUMIFS(RRHH!$M:$M,RRHH!$F:$F,'Programación No Medica'!B14,RRHH!$J:$J,'Programación No Medica'!D14) -> 0 | L14: =+IFERROR(I14/K14,0) -> 0 | M14: =++SUMIF(RRHH!F:F,'Programación No Medica'!B14,RRHH!$M:$M) -> 0 | N14: =+SUMIFS(I:I,B:B,B14,D:D,D14)-K14 -> 0 | O14: =IFERROR((IFERROR(VLOOKUP(B14,RRHH!F:S,11,0),0)+IFERROR(VLOOKUP(B14,RRHH!F:S,12,0),0)+IFERROR(VLOOKUP(B14,RRHH!F:S,13,0),0)+IFERROR(VLOOKUP(B14,RRHH!F:S,14,0),0))/5*I14+(250.5-(IFERROR(VLOOKUP(B14,RRHH!F:S,11,0),0)+IFERROR(VLOOKUP(B14,RRHH!F:S,12,0),0)+IFERROR(VLOOKUP(B14,RRHH!F:S,13,0),0)+IFERROR(VLOOKUP(B14,RRHH!F:S,14,0),0)))/5*(IFERROR(VLOOKUP(B14,RRHH!F:U,15,0),0)+IFERROR(VLOOKUP(B14,RRHH!F:U,16,0),0))/60*I14/M14,0) -> 0 | P14: =+IF(Q14="R",IFERROR((I14*50.1-O14)*J14,""),"") | Q14: =+IFERROR(VLOOKUP(G14,Diccionarios!R:S,2,0),"Act. No ident") -> Act. No ident
... E110: =+IFERROR(VLOOKUP(F110,Busc!$A$2:$B$11,2,0),"Prof No Val") -> Prof No Val | G110: =+IFERROR(VLOOKUP(H110,Diccionarios!Q:S,2,0),"Act No enc.") -> Act No enc. | K110: =++SUMIFS(RRHH!$M:$M,RRHH!$F:$F,'Programación No Medica'!B110,RRHH!$J:$J,'Programación No Medica'!D110) -> 0 | L110: =+IFERROR(I110/K110,0) -> 0 | M110: =++SUMIF(RRHH!F:F,'Programación No Medica'!B110,RRHH!$M:$M) -> 0 | N110: =+SUMIFS(I:I,B:B,B110,D:D,D110)-K110 -> 0 | O110: =IFERROR((IFERROR(VLOOKUP(B110,RRHH!F:S,11,0),0)+IFERROR(VLOOKUP(B110,RRHH!F:S,12,0),0)+IFERROR(VLOOKUP(B110,RRHH!F:S,13,0),0)+IFERROR(VLOOKUP(B110,RRHH!F:S,14,0),0))/5*I110+(250.5-(IFERROR(VLOOKUP(B110,RRHH!F:S,11,0),0)+IFERROR(VLOOKUP(B110,RRHH!F:S,12,0),0)+IFERROR(VLOOKUP(B110,RRHH!F:S,13,0),0)+IFERROR(VLOOKUP(B110,RRHH!F:S,14,0),0)))/5*(IFERROR(VLOOKUP(B110,RRHH!F:U,15,0),0)+IFERROR(VLOOKUP(B110,RRHH!F:U,16,0),0))/60*I110/M110,0) -> 0 | P110: =+IF(Q110="R",IFERROR((I110*50.1-O110)*J110,""),"") | Q110: =+IFERROR(VLOOKUP(G110,Diccionarios!R:S,2,0),"Act. No ident") -> Act. No ident

Sheet Diccionarios
B1: Especialidades | F1: DV | H1: Medicina General | J1: Actividades Medicas | Q1: Actividades profesional No Médico
B2: Id_Especialidad | C2: Descripcion especialidad | D2: Id_Especialidad | F2: 0 | H2: No | J2: Descripción | K2: Id_Actividades | L2: Rendimiento | M2: Especialidades | Q2: Descripción | R2: Id_Actividad | S2: Rendimiento | T2: Observación
B3: 7020130 | C3: PEDIATRÍA | D3: =+B3 -> 7020130 | F3: 1 | H3: Si | J3: Consulta Nueva de especialidad | K3: 1 | L3: R | M3: A todas | Q3: Consultas totales (ESPECIALIDAD) | R3: 46 | S3: R
B4: 7020230 | C4: MEDICINA INTERNA | D4: =+B4 -> 7020230 | F4: 2 | J4: Consulta Control de especialidad | K4: 2 | L4: R | M4: A todas | O4: R: Se solicita Rendimiento | Q4: Consultas totales (SM) | R4: 47 | S4: R
B5: 7020330 | C5: NEONATOLOGÍA | D5: =+B5 -> 7020330 | F5: 3 | J5: Atención de Servicio de Urgencia (Desde Atención Ambulatoria). | K5: 3 | L5: NR | M5: A todas | O5: NR: No se solicita rendimiento | Q5: Atención de Servicio de Urgencia (Desde Atención Ambulatoria). | R5: 3 | S5: NR
B6: 7020331 | C6: ENFERMEDAD RESPIRATORIA PEDIÁTRICA (BRONCOPULMONAR INFANTIL) | D6: =+B6 -> 7020331 | F6: 4 | J6: Procedimientos especialidad | K6: 4 | L6: NR | M6: A todas | Q6: Procedimientos (apoyo en procedimientos médicos y propios) | R6: 48 | S6: NR
B7: 7020332 | C7: ENFERMEDAD RESPIRATORIA DE ADULTO (BRONCOPULMONAR) | D7: =+B7 -> 7020332 | F7: 5 | J7: Turno (Todas las unidades hospitalarias) | K7: 5 | L7: NR | M7: A todas | Q7: Turno (Todas las unidades hospitalarias) | R7: 5 | S7: NR
B8: 7024219 | C8: CARDIOLOGÍA PEDIÁTRICA | D8: =+B8 -> 7024219 | F8: 6 | J8: Pabellon Cirugía Mayor Ambulatoria | K8: 6 | L8: R | M8: A todas | Q8: Pabellon | R8: 49 | S8: NR
B9: 7020500 | C9: CARDIOLOGÍA ADULTO | D9: =+B9 -> 7020500 | F9: 7 | J9: Pabellon Cirugía Mayor | K9: 7 | L9: R | M9: A todas | Q9: Consultoría en salud | R9: 11 | S9: NR
B10: 7020501 | C10: ENDOCRINOLOGÍA PEDIÁTRICA | D10: =+B10 -> 7020501 | F10: 8 | J10: Pabellon Cirugía Menor | K10: 8 | L10: R | M10: A todas | Q10: Ronda otro establecimiento | R10: 12 | S10: NR
B11: 7020600 | C11: ENDOCRINOLOGÍA ADULTO | D11: =+B11 -> 7020600 | F11: 9 | J11: Pabellon Cirugía Obstetrica | K11: 9 | L11: R | M11: A todas | Q11: Visita Domiciliaria | R11: 16 | S11: NR
B12: 7020601 | C12: GASTROENTEROLOGÍA PEDIÁTRICA | D12: =+B12 -> 7020601 | F12: K | J12: Visita a sala Hospitalizado | K12: 10 | L12: R | M12: A todas | Q12: Gestión de Casos | R12: 17 | S12: R
B13: 7020700 | C13: GASTROENTEROLOGÍA ADULTO | D13: =+B13 -> 7020700 | J13: Consultoría en salud | K13: 11 | L13: R | M13: A todas | Q13: Consulta Abreviada no Médica | R13: 50 | S13: R
B14: 7020800 | C14: GENÉTICA CLÍNICA | D14: =+B14 -> 7020800 | J14: Ronda otro establecimiento | K14: 12 | L14: NR | M14: A todas | Q14: Contrareferencia | R14: 51 | S14: R
B15: 7020801 | C15: HEMATO-ONCOLOGÍA INFANTIL | D15: =+B15 -> 7020801 | J15: Teleconsulta nueva de especialidad | K15: 13 | L15: R | M15: A todas | Q15: Taller Grupal | R15: 52 | S15: NR
B16: 7020900 | C16: HEMATOLOGÍA ADULTO | D16: =+B16 -> 7020900 | J16: Teleconsulta control de especialidad | K16: 14 | L16: R | M16: A todas | Q16: Atención de Enlace o Interconsulta a sala | R16: 53 | S16: R
B17: 7020901 | C17: NEFROLOGÍA PEDIÁTRICA | D17: =+B17 -> 7020901 | J17: Teleconsulta de especialidad hospitalizado | K17: 15 | L17: R | M17: A todas | Q17: Educación Individual | R17: 54 | S17: R
B18: 7021000 | C18: NEFROLOGÍA ADULTO | D18: =+B18 -> 7021000 | J18: Visita Domiciliaria | K18: 16 | L18: R | M18: A todas | Q18: Comité clínico | R18: 21 | S18: R
B19: 7021001 | C19: NUTRIÓLOGO PEDIÁTRICO | D19: =+B19 -> 7021001 | J19: Gestión de Casos | K19: 17 | L19: R | M19: A todas | Q19: Comité Oncológico | R19: 22 | S19: R
B20: 7021100 | C20: NUTRIÓLOGO ADULTO | D20: =+B20 -> 7021100 | J20: Consulta Abreviada Médica | K20: 18 | L20: R | M20: A todas | Q20: Reunión Clínica | R20: 23 | S20: NR
B21: 7021101 | C21: REUMATOLOGÍA PEDIÁTRICA | D21: =+B21 -> 7021101 | J21: Procedimientos Imagenológicos (Médico) | K21: 19 | L21: NR | M21: A todas | Q21: Reunión Técnica Administrativa | R21: 24 | S21: NR
B22: 7021230 | C22: REUMATOLOGÍA ADULTO | D22: =+B22 -> 7021230 | J22: Interconsulta en sala | K22: 20 | L22: R | M22: A todas | Q22: Otros Actividades Clínicas | R22: 25 | S22: NR
B23: 7021300 | C23: DERMATOLOGÍA | D23: =+B23 -> 7021300 | J23: Comité Clínico | K23: 21 | L23: R | M23: A todas | Q23: Gestión Organizacional (Administrativo/ Jefatura) | R23: 26 | S23: NR
B24: 7021301 | C24: INFECTOLOGÍA PEDIÁTRICA | D24: =+B24 -> 7021301 | J24: Comité Oncológico | K24: 22 | L24: R | M24: A todas | Q24: Investigación | R24: 27 | S24: NR
... B42: 7022700 | C42: CIRUGÍA TÓRAX | D42: =+B42 -> 7022700 | J42: Coordinación con Equipos de la red de salud (PCI/ SM) | K42: 40 | L42: NR | M42: Medico General / Psiquiatras adulto e infantil | Q42: Otros Procedimientos realizados por TM | R42: 69 | S42: NR
B43: 7022800 | C43: CIRUGÍA VASCULAR PERIFÉRICA | D43: =+B43 -> 7022800 | J43: Trabajo sectorial (SM) | K43: 41 | L43: NR | M43: Medico General / Psiquiatras adulto e infantil | Q43: Disp. y validación de prescripción en AA | R43: 70 | S43: NR | T43: Solo QF
B44: 7022900 | C44: NEUROCIRUGÍA | D44: =+B44 -> 7022900 | J44: Trabajo intersectorial (SM) | K44: 42 | L44: NR | M44: Medico General / Psiquiatras adulto e infantil | Q44: Disp. y validación de prescripción en AC | R44: 71 | S44: NR | T44: Solo QF
B45: 7021701 | C45: CIRUGÍA CARDIOVASCULAR | D45: =+B45 -> 7021701 | J45: Actividades de cuidado del equipo (SM) | K45: 43 | L45: NR | M45: Medico General / Psiquiatras adulto e infantil | Q45: Disp. y validación de prescripción en URG | R45: 72 | S45: NR | T45: Solo QF
B46: 7023100 | C46: ANESTESIOLOGÍA | D46: =+B46 -> 7023100 | J46: Comité de ingreso a atención cerrada (SM) | K46: 44 | L46: NR | M46: Medico General / Psiquiatras adulto e infantil | Q46: Disp. directa especificos | R46: 73 | S46: NR | T46: Solo QF
B47: 7023200 | C47: OBSTETRICIA | D47: =+B47 -> 7023200 | J47: Consejo Técnico de Salud Mental en el Servicio de Salud (SM) | K47: 45 | L47: NR | M47: Medico General / Psiquiatras adulto e infantil | Q47: Registro de recetas | R47: 74 | S47: NR | T47: Solo QF
B48: 7023201 | C48: GINECOLOGÍA PEDIÁTRICA Y DE LA ADOLESCENCIA | D48: =+B48 -> 7023201 | J48: Comité por Telemedicina | K48: 91 | L48: NR | M48: A todas | Q48: Preparados magistrales y/o oficinales No esteril | R48: 75 | S48: NR | T48: Solo QF
B49: 7023202 | C49: GINECOLOGÍA ADULTO | D49: =+B49 -> 7023202 | J49: Consulta Ingreso Hospital de Día y UHCIP (SM) | K49: 92 | L49: NR | M49: Medico General / Psiquiatras adulto e infantil | Q49: Preparados magistrales y/o oficinales Esteril | R49: 76 | S49: NR | T49: Solo QF
B50: 7023203 | C50: OFTALMOLOGÍA | D50: =+B50 -> 7023203 | J50: Consulta Control Hospital de Día y UHCIP (SM) | K50: 93 | L50: NR | M50: Medico General / Psiquiatras adulto e infantil | Q50: Fraccionamiento de envases | R50: 77 | S50: NR | T50: Solo QF
B51: 7023700 | C51: OTORRINOLARINGOLOGÍA | D51: =+B51 -> 7023700 | J51: Intervención Familiar Hospital de Día y UHCIP (SM) | K51: 94 | L51: NR | M51: Medico General / Psiquiatras adulto e infantil | Q51: Reenvasado de unidosis | R51: 78 | S51: NR | T51: Solo QF
B52: 7023701 | C52: TRAUMATOLOGÍA Y ORTOPEDIA PEDIÁTRICA | D52: =+B52 -> 7023701 | J52: Intervención Psicosocial Grupal Hospital de Día y UHCIP (SM) | K52: 95 | L52: NR | M52: Medico General / Psiquiatras adulto e infantil | Q52: Conciliación farmacoterapeutica | R52: 79 | S52: NR | T52: Solo QF
B53: 7023702 | C53: TRAUMATOLOGÍA Y ORTOPEDIA ADULTO | D53: =+B53 -> 7023702 | J53: Visita Integral de Salud Mental Hospital de Día y UHCIP (SM) | K53: 96 | L53: NR | M53: Medico General / Psiquiatras adulto e infantil | Q53: Revisión de la medicación | R53: 80 | S53: NR | T53: Solo QF
B54: 7023703 | C54: UROLOGÍA PEDIÁTRICA | D54: =+B54 -> 7023703 | Q54: Seguimiento farmacoterapéutico | R54: 81 | S54: NR | T54: Solo QF
B55: 7024000 | C55: UROLOGÍA ADULTO | D55: =+B55 -> 7024000 | Q55: Educación farmacoterapeutica | R55: 82 | S55: NR | T55: Solo QF
B56: 7024001 | C56: MEDICINA FAMILIAR DEL NIÑO | D56: =+B56 -> 7024001 | Q56: Monitorización terapeutica de farmacos | R56: 83 | S56: NR | T56: Solo QF
B57: 7024200 | C57: MEDICINA FAMILIAR | D57: =+B57 -> 7024200 | Q57: Notificación de reacciones adversas de medicamentos | R57: 84 | S57: NR | T57: Solo QF
B58: 7030500 | C58: MEDICINA FAMILIAR ADULTO | D58: =+B58 -> 7030500 | Q58: Notificación de eventos adversos asociados de medicación | R58: 85 | S58: NR | T58: Solo QF
B59: 7024201 | C59: DIABETOLOGÍA | D59: =+B59 -> 7024201 | Q59: Notificación de denuncias de calidad | R59: 86 | S59: NR | T59: Solo QF
B60: 7024202 | C60: MEDICINA NUCLEAR (EXCLUYE INFORMES) | D60: =+B60 -> 7024202 | Q60: Educaciones grupales (usuarios y equipo de salud ) | R60: 87 | S60: NR | T60: Solo QF
B61: 7030501 | C61: IMAGENOLOGÍA | D61: =+B61 -> 7030501 | Q61: Inventario | R61: 88 | S61: NR | T61: Solo QF
B62: 7030502 | C62: RADIOTERAPIA ONCOLÓGICA | D62: =+B62 -> 7030502 | Q62: Programacion, gestion de adquisición y registro. | R62: 89 | S62: NR | T62: Solo QF
B63: 7024999 | C63: MEDICINA GENERAL | D63: =+B63 -> 7024999 | Q63: Secretario de comité de farmacia y técnico | R63: 90 | S63: NR | T63: Solo QF
Q64: Comité por Telemedicina | R64: 91 | S64: NR
Q65: Consulta de Ingreso por Equipo Salud Mental | R65: 97 | S65: NR | T65: sm
Q66: Comité Articulador de Continuidad de Cuidados | R66: 98 | S66: NR | T66: sm
Q67: Comité de ingreso a atención cerrada (incluye Hospital de Día y UHCIP) (SM) | R67: 99 | S67: NR | T67: sm
Q68: Consulta Ingreso Hospital de Día y UHCIP (SM) | R68: 92 | S68: NR | T68: sm
Q69: Consulta Control Hospital de Día y UHCIP (SM) | R69: 93 | S69: NR | T69: sm
Q70: Intervención Familiar Hospital de Día y UHCIP (SM) | R70: 94 | S70: NR | T70: sm
Q71: Intervención Psicosocial Grupal Hospital de Día y UHCIP (SM) | R71: 95 | S71: NR | T71: sm
Q72: Visita Integral de Salud Mental Hospital de Día y UHCIP (SM) | R72: 96 | S72: NR | T72: sm
Q73: Consultas CONTROL POR PROFESIONAL (SM) | R73: 100 | S73: R | T73: sm
Q74: Consultas NUEVAS (ESPECIALIDAD) | R74: 101 | S74: R | T74: a todos
Q75: Consultas CONTROL (ESPECIALIDAD) | R75: 102 | S75: R | T75: a todos

Sheet Busc
A1: TITULO | B1: Id_Titulo | D1: ASISTENTE_SOCIAL | F1: ENFERMERA | H1: FONOADIOLOGO | J1: KINESIOLOGO | L1: MATRONA | N1: NUTRICIONISTA | P1: PSICOLOGO | R1: QUIMICO_FARMACEUTICO | T1: TECNOLOGO_MEDICO | V1: TERAPEUTA_OCUPACIONAL
A2: ENFERMERA | B2: 2 | D2: Consultas NUEVAS (ESPECIALIDAD) | F2: Consultas NUEVAS (ESPECIALIDAD) | H2: Consultas NUEVAS (ESPECIALIDAD) | J2: Consultas NUEVAS (ESPECIALIDAD) | L2: Consultas NUEVAS (ESPECIALIDAD) | N2: Consultas NUEVAS (ESPECIALIDAD) | P2: Consultas NUEVAS (ESPECIALIDAD) | R2: Disp. y validación de prescripción en AA | T2: Consultas NUEVAS (ESPECIALIDAD) | V2: Consultas NUEVAS (ESPECIALIDAD)
A3: MATRONA | B3: 3 | D3: Consultas CONTROL (ESPECIALIDAD) | F3: Consultas CONTROL (ESPECIALIDAD) | H3: Consultas CONTROL (ESPECIALIDAD) | J3: Consultas CONTROL (ESPECIALIDAD) | L3: Consultas CONTROL (ESPECIALIDAD) | N3: Consultas CONTROL (ESPECIALIDAD) | P3: Consultas CONTROL (ESPECIALIDAD) | R3: Disp. y validación de prescripción en AC | T3: Consultas CONTROL (ESPECIALIDAD) | V3: Consultas CONTROL (ESPECIALIDAD)
A4: NUTRICIONISTA | B4: 4 | D4: Atención de Servicio de Urgencia (Desde Atención Ambulatoria). | F4: Atención de Servicio de Urgencia (Desde Atención Ambulatoria). | H4: Evaluación inicial | J4: Evaluación inicial | L4: Atención de Servicio de Urgencia (Desde Atención Ambulatoria). | N4: Consultas totales (SM) | P4: Evaluación inicial | R4: Disp. y validación de prescripción en URG | T4: Attención Medicina Transfusional por TM | V4: Evaluación inicial
A5: KINESIOLOGO | B5: 5 | D5: Consultoría en salud | F5: Procedimientos (apoyo en procedimientos médicos y propios) | H5: Evaluación intermedia | J5: Evaluación intermedia | L5: Procedimientos (apoyo en procedimientos médicos y propios) | N5: Atención de Servicio de Urgencia (Desde Atención Ambulatoria). | P5: Evaluación intermedia | R5: Disp. directa especificos | T5: Examen Imagenologico por TM | V5: Evaluación intermedia
A6: FONOAUDIOLOGO | B6: 6 | D6: Ronda otro establecimiento | F6: Turno (Todas las unidades hospitalarias) | H6: Atención de Servicio de Urgencia (Desde Atención Ambulatoria). | J6: Atención de Servicio de Urgencia (Desde Atención Ambulatoria). | L6: Turno (Todas las unidades hospitalarias) | N6: Turno (Todas las unidades hospitalarias) | P6: Psicodiagnostico | R6: Registro de recetas | T6: Examen Laboratorio por TM | V6: Atención de Servicio de Urgencia (Desde Atención Ambulatoria).
A7: PSICOLOGO | B7: 7 | D7: Visita Domiciliaria | F7: Pabellon | H7: Procedimientos (apoyo en procedimientos médicos y propios) | J7: Procedimientos (apoyo en procedimientos médicos y propios) | L7: Pabellon | N7: Consultoría en salud | P7: Psicoterapia Individual | R7: Preparados magistrales y/o oficinales No esteril | T7: Turno (Todas las unidades hospitalarias) | V7: Procedimientos (apoyo en procedimientos médicos y propios)
A8: TERAPEUTA_OCUPACIONAL | B8: 8 | D8: Gestión de Casos | F8: Consultoría en salud | H8: Sesiones de Rehabilitación | J8: Sesiones de Rehabilitación | L8: Conserjeria en salud MATRONA | N8: Atención Nutricional Intensiva (ANI) | P8: Pscoterapia Familiar | R8: Preparados magistrales y/o oficinales Esteril | T8: Examen APA por TM | V8: Sesiones de Rehabilitación
A9: ASISTENTE_SOCIAL | B9: 9 | D9: Contrareferencia | F9: Ronda otro establecimiento | H9: Turno (Todas las unidades hospitalarias) | J9: Turno (Todas las unidades hospitalarias) | L9: Ronda otro establecimiento | N9: Visita Domiciliaria | P9: Atención de Servicio de Urgencia (Desde Atención Ambulatoria). | R9: Fraccionamiento de envases | T9: Ronda otro establecimiento | V9: Consultoría en salud
A10: TECNOLOGO_MEDICO | B10: 10 | D10: Taller Grupal | F10: Visita Domiciliaria | H10: Pabellon | J10: Pabellon | L10: Visita Domiciliaria | N10: Atención Nutricional en Sala | P10: Sesiones de Rehabilitación | R10: Reenvasado de unidosis | T10: Otros Procedimientos realizados por TM | V10: Ronda otro establecimiento
A11: QUIMICO_FARMACEUTICO | B11: 11 | D11: Atención de Enlace o Interconsulta a sala | F11: Gestión de Casos | H11: Consultoría en salud | J11: Consultoría en salud | L11: Gestión de Casos | N11: Consulta Abreviada no Médica | P11: Consultoría en salud | R11: Conciliación farmacoterapeutica | T11: Comité clínico | V11: Visita Domiciliaria
D12: Educación Individual | F12: Consulta Abreviada no Médica | H12: Ronda otro establecimiento | J12: Ronda otro establecimiento | L12: Consulta Abreviada no Médica | N12: Contrareferencia | P12: Ronda otro establecimiento | R12: Revisión de la medicación | T12: Comité Oncológico | V12: Gestión de Casos
D13: Comité clínico | F13: Contrareferencia | H13: Visita Domiciliaria | J13: Visita Domiciliaria | L13: Taller Grupal | N13: Educación nutricional establecimiento o/y espacios públicos. | P13: Visita Domiciliaria | R13: Seguimiento farmacoterapéutico | T13: Reunión Clínica | V13: Consulta Abreviada no Médica
D14: Comité Oncológico | F14: Taller Grupal | H14: Gestión de Casos | J14: Gestión de Casos | L14: Atención de Enlace o Interconsulta a sala | N14: Comité clínico | P14: Gestión de Casos | R14: Educación farmacoterapeutica | T14: Reunión Técnica Administrativa | V14: Contrareferencia
D15: Comité por Telemedicina | F15: Comité por Telemedicina | H15: Comité por Telemedicina | J15: Comité por Telemedicina | L15: Comité por Telemedicina | N15: Comité por Telemedicina | P15: Comité por Telemedicina | R15: Monitorización terapeutica de farmacos | T15: Otros Actividades Clínicas | V15: Comité por Telemedicina
D16: Reunión Clínica | F16: Atención de Enlace o Interconsulta a sala | H16: Consulta Abreviada no Médica | J16: Consulta Abreviada no Médica | L16: Educación Individual | N16: Comité Oncológico | P16: Consulta Abreviada no Médica | R16: Visita Domiciliaria | T16: Comité por Telemedicina | V16: Taller Grupal
D17: Reunión Técnica Administrativa | F17: Educación Individual | H17: Contrareferencia | J17: Contrareferencia | L17: Comité clínico | N17: Reunión Clínica | P17: Contrareferencia | R17: Notificación de reacciones adversas de medicamentos | T17: Gestión Organizacional (Administrativo/ Jefatura) | V17: Atención de Enlace o Interconsulta a sala
D18: Otros Actividades Clínicas | F18: Comité clínico | H18: Taller Grupal | J18: Taller Grupal | L18: Comité Oncológico | N18: Reunión Técnica Administrativa | P18: Taller Grupal | R18: Notificación de eventos adversos asociados de medicación | T18: Investigación | V18: Educación Individual
D19: Gestión Organizacional (Administrativo/ Jefatura) | F19: Comité Oncológico | H19: Atención de Enlace o Interconsulta a sala | J19: Atención de Enlace o Interconsulta a sala | L19: Reunión Clínica | N19: Investigación | P19: Atención de Enlace o Interconsulta a sala | R19: Notificación de denuncias de calidad | T19: Docencia | V19: Comité clínico
D20: Investigación | F20: Reunión Clínica | H20: Educación Individual | J20: Educación Individual | L20: Reunión Técnica Administrativa | N20: Docencia | P20: Educación Individual | R20: Educaciones grupales (usuarios y equipo de salud ) | T20: Otras Actividades No Clínicas | V20: Comité Oncológico
D21: Docencia | F21: Reunión Técnica Administrativa | H21: Comité clínico | J21: Comité clínico | L21: Investigación | N21: Otras Actividades No Clínicas | P21: Comité clínico | R21: Inventario | T21: Hospitalización Domiciliaria | V21: Reunión Clínica
D22: Otras Actividades No Clínicas | F22: Otros Actividades Clínicas | H22: Comité Oncológico | J22: Comité Oncológico | L22: Docencia | N22: Hospitalización Domiciliaria | P22: Comité Oncológico | R22: Programacion, gestion de adquisición y registro. | V22: Reunión Técnica Administrativa
D23: Hospitalización Domiciliaria | F23: Gestión Organizacional (Administrativo/ Jefatura) | H23: Reunión Clínica | J23: Reunión Clínica | L23: Otras Actividades No Clínicas | N23: Otros Actividades Clínicas | P23: Reunión Clínica | R23: Secretario de comité de farmacia y técnico | V23: Otros Actividades Clínicas
D24: Consulta de Ingreso por Equipo Salud Mental | F24: Investigación | H24: Reunión Técnica Administrativa | J24: Reunión Técnica Administrativa | L24: Hospitalización Domiciliaria | N24: Consulta de Ingreso por Equipo Salud Mental | P24: Reunión Técnica Administrativa | R24: Gestión Organizacional (Administrativo/ Jefatura) | V24: Gestión Organizacional (Administrativo/ Jefatura)
D25: Comité Articulador de Continuidad de Cuidados | F25: Docencia | H25: Otros Actividades Clínicas | J25: Otros Actividades Clínicas | L25: Otros Actividades Clínicas | N25: Comité Articulador de Continuidad de Cuidados | P25: Otros Actividades Clínicas | R25: Investigación | V25: Investigación
D26: Comité de ingreso a atención cerrada (incluye Hospital de Día y UHCIP) (SM) | F26: Otras Actividades No Clínicas | H26: Gestión Organizacional (Administrativo/ Jefatura) | J26: Gestión Organizacional (Administrativo/ Jefatura) | L26: Consulta de Ingreso por Equipo Salud Mental | N26: Comité de ingreso a atención cerrada (incluye Hospital de Día y UHCIP) (SM) | P26: Gestión Organizacional (Administrativo/ Jefatura) | R26: Docencia | V26: Docencia
D27: Consulta Ingreso Hospital de Día y UHCIP (SM) | F27: Hospitalización Domiciliaria | H27: Investigación | J27: Investigación | L27: Comité Articulador de Continuidad de Cuidados | N27: Consulta Ingreso Hospital de Día y UHCIP (SM) | P27: Investigación | R27: Otras Actividades No Clínicas | V27: Otras Actividades No Clínicas
D28: Consulta Control Hospital de Día y UHCIP (SM) | F28: Consulta de Ingreso por Equipo Salud Mental | H28: Docencia | J28: Docencia | L28: Comité de ingreso a atención cerrada (incluye Hospital de Día y UHCIP) (SM) | N28: Consulta Control Hospital de Día y UHCIP (SM) | P28: Docencia | V28: Hospitalización Domiciliaria
D29: Intervención Familiar Hospital de Día y UHCIP (SM) | F29: Comité Articulador de Continuidad de Cuidados | H29: Otras Actividades No Clínicas | J29: Otras Actividades No Clínicas | L29: Consulta Ingreso Hospital de Día y UHCIP (SM) | N29: Intervención Familiar Hospital de Día y UHCIP (SM) | P29: Otras Actividades No Clínicas | V29: Consulta de Ingreso por Equipo Salud Mental
D30: Intervención Psicosocial Grupal Hospital de Día y UHCIP (SM) | F30: Comité de ingreso a atención cerrada (incluye Hospital de Día y UHCIP) (SM) | H30: Hospitalización Domiciliaria | J30: Hospitalización Domiciliaria | L30: Consulta Control Hospital de Día y UHCIP (SM) | N30: Intervención Psicosocial Grupal Hospital de Día y UHCIP (SM) | P30: Hospitalización Domiciliaria | V30: Comité Articulador de Continuidad de Cuidados
D31: Visita Integral de Salud Mental Hospital de Día y UHCIP (SM) | F31: Consulta Ingreso Hospital de Día y UHCIP (SM) | H31: Consulta de Ingreso por Equipo Salud Mental | J31: Consulta de Ingreso por Equipo Salud Mental | L31: Intervención Familiar Hospital de Día y UHCIP (SM) | N31: Visita Integral de Salud Mental Hospital de Día y UHCIP (SM) | P31: Otros Actividades Clínicas | V31: Comité de ingreso a atención cerrada (incluye Hospital de Día y UHCIP) (SM)
D32: Consultas CONTROL POR PROFESIONAL (SM) | F32: Consulta Control Hospital de Día y UHCIP (SM) | H32: Comité Articulador de Continuidad de Cuidados | J32: Comité Articulador de Continuidad de Cuidados | L32: Intervención Psicosocial Grupal Hospital de Día y UHCIP (SM) | N32: Consultas CONTROL POR PROFESIONAL (SM) | P32: Consulta de Ingreso por Equipo Salud Mental | V32: Consulta Ingreso Hospital de Día y UHCIP (SM)
F33: Intervención Familiar Hospital de Día y UHCIP (SM) | H33: Comité de ingreso a atención cerrada (incluye Hospital de Día y UHCIP) (SM) | J33: Comité de ingreso a atención cerrada (incluye Hospital de Día y UHCIP) (SM) | L33: Visita Integral de Salud Mental Hospital de Día y UHCIP (SM) | P33: Comité Articulador de Continuidad de Cuidados | V33: Consulta Control Hospital de Día y UHCIP (SM)
F34: Intervención Psicosocial Grupal Hospital de Día y UHCIP (SM) | H34: Consulta Ingreso Hospital de Día y UHCIP (SM) | J34: Consulta Ingreso Hospital de Día y UHCIP (SM) | L34: Consultas CONTROL POR PROFESIONAL (SM) | P34: Comité de ingreso a atención cerrada (incluye Hospital de Día y UHCIP) (SM) | V34: Intervención Familiar Hospital de Día y UHCIP (SM)
F35: Visita Integral de Salud Mental Hospital de Día y UHCIP (SM) | H35: Consulta Control Hospital de Día y UHCIP (SM) | J35: Consulta Control Hospital de Día y UHCIP (SM) | P35: Consulta Ingreso Hospital de Día y UHCIP (SM) | V35: Intervención Psicosocial Grupal Hospital de Día y UHCIP (SM)
F36: Consultas CONTROL POR PROFESIONAL (SM) | H36: Intervención Familiar Hospital de Día y UHCIP (SM) | J36: Intervención Familiar Hospital de Día y UHCIP (SM) | P36: Consulta Control Hospital de Día y UHCIP (SM) | V36: Visita Integral de Salud Mental Hospital de Día y UHCIP (SM)
H37: Intervención Psicosocial Grupal Hospital de Día y UHCIP (SM) | J37: Intervención Psicosocial Grupal Hospital de Día y UHCIP (SM) | P37: Intervención Familiar Hospital de Día y UHCIP (SM) | V37: Consultas CONTROL POR PROFESIONAL (SM)
H38: Visita Integral de Salud Mental Hospital de Día y UHCIP (SM) | J38: Visita Integral de Salud Mental Hospital de Día y UHCIP (SM) | P38: Intervención Psicosocial Grupal Hospital de Día y UHCIP (SM)
H39: Consultas CONTROL POR PROFESIONAL (SM) | J39: Consultas CONTROL POR PROFESIONAL (SM) | P39: Visita Integral de Salud Mental Hospital de Día y UHCIP (SM)
P40: Consultas CONTROL POR PROFESIONAL (SM)

Sheet Resumen Programación
B1: Porgramación medica anual 2020
B3: Especialidad Medica | C3: Consulta Nueva | D3: Consulta controles | E3: Total | G3: Actividades con rendimiento | H3: Total Actividades | L3: Actividades con Rendimiento | M3: ASISTENTE_SOCIAL | N3: ENFERMERA | O3: FONOADIOLOGO | P3: KINESIOLOGO | Q3: MATRONA | R3: NUTRICIONISTA | S3: PSICOLOGO | T3: QUIMICO_FARMACEUTICO | U3: TECNOLOGO_MEDICO | V3: TERAPEUTA_OCUPACIONAL
B4: PEDIATRÍA | C4: =+ROUND(SUMIFS('Programación Medica'!P:P,'Programación Medica'!F:F,'Resumen Programación'!B4,'Programación Medica'!H:H,"Consulta Nueva de especialidad"),0) -> 0 | D4: =+ROUND(SUMIFS('Programación Medica'!P:P,'Programación Medica'!F:F,'Resumen Programación'!B4,'Programación Medica'!H:H,"Consulta Control de especialidad"),0) -> 0 | E4: =+SUM(C4:D4) -> 0 | G4: Consulta Nueva de especialidad | H4: =+ROUND(SUMIF('Programación Medica'!H:H,'Resumen Programación'!G4,'Programación Medica'!P:P),0) -> 2383 | L4: Consultas totales (ESPECIALIDAD) | M4: =+ROUND(SUMIFS('Programación No Medica'!$P:$P,'Programación No Medica'!$F:$F,'Resumen Programación'!M$3,'Programación No Medica'!$H:$H,'Resumen Programación'!$L4),0) -> 0 | N4: =+ROUND(SUMIFS('Programación No Medica'!$P:$P,'Programación No Medica'!$F:$F,'Resumen Programación'!N$3,'Programación No Medica'!$H:$H,'Resumen Programación'!$L4),0) -> 0 | O4: =+ROUND(SUMIFS('Programación No Medica'!$P:$P,'Programación No Medica'!$F:$F,'Resumen Programación'!O$3,'Programación No Medica'!$H:$H,'Resumen Programación'!$L4),0) -> 0 | P4: =+ROUND(SUMIFS('Programación No Medica'!$P:$P,'Programación No Medica'!$F:$F,'Resumen Programación'!P$3,'Programación No Medica'!$H:$H,'Resumen Programación'!$L4),0) -> 0 | Q4: =+ROUND(SUMIFS('Programación No Medica'!$P:$P,'Programación No Medica'!$F:$F,'Resumen Programación'!Q$3,'Programación No Medica'!$H:$H,'Resumen Programación'!$L4),0) -> 0 | R4: =+ROUND(SUMIFS('Programación No Medica'!$P:$P,'Programación No Medica'!$F:$F,'Resumen Programación'!R$3,'Programación No Medica'!$H:$H,'Resumen Programación'!$L4),0) -> 0 | S4: =+ROUND(SUMIFS('Programación No Medica'!$P:$P,'Programación No Medica'!$F:$F,'Resumen Programación'!S$3,'Programación No Medica'!$H:$H,'Resumen Programación'!$L4),0) -> 0 | T4: =+ROUND(SUMIFS('Programación No Medica'!$P:$P,'Programación No Medica'!$F:$F,'Resumen Programación'!T$3,'Programación No Medica'!$H:$H,'Resumen Programación'!$L4),0) -> 0 | ... V4: =+ROUND(SUMIFS('Programación No Medica'!$P:$P,'Programación No Medica'!$F:$F,'Resumen Programación'!V$3,'Programación No Medica'!$H:$H,'Resumen Programación'!$L4),0) -> 0
B5: MEDICINA INTERNA | C5: =+ROUND(SUMIFS('Programación Medica'!P:P,'Programación Medica'!F:F,'Resumen Programación'!B5,'Programación Medica'!H:H,"Consulta Nueva de especialidad"),0) -> 0 | D5: =+ROUND(SUMIFS('Programación Medica'!P:P,'Programación Medica'!F:F,'Resumen Programación'!B5,'Programación Medica'!H:H,"Consulta Control de especialidad"),0) -> 0 | E5: =+SUM(C5:D5) -> 0 | G5: Consulta Control de especialidad | H5: =+ROUND(SUMIF('Programación Medica'!H:H,'Resumen Programación'!G5,'Programación Medica'!P:P),0) -> 190 | L5: Consultas totales (SM) | M5: =+ROUND(SUMIFS('Programación No Medica'!$P:$P,'Programación No Medica'!$F:$F,'Resumen Programación'!M$3,'Programación No Medica'!$H:$H,'Resumen Programación'!$L5),0) -> 0 | N5: =+ROUND(SUMIFS('Programación No Medica'!$P:$P,'Programación No Medica'!$F:$F,'Resumen Programación'!N$3,'Programación No Medica'!$H:$H,'Resumen Programación'!$L5),0) -> 0 | O5: =+ROUND(SUMIFS('Programación No Medica'!$P:$P,'Programación No Medica'!$F:$F,'Resumen Programación'!O$3,'Programación No Medica'!$H:$H,'Resumen Programación'!$L5),0) -> 0 | P5: =+ROUND(SUMIFS('Programación No Medica'!$P:$P,'Programación No Medica'!$F:$F,'Resumen Programación'!P$3,'Programación No Medica'!$H:$H,'Resumen Programación'!$L5),0) -> 0 | Q5: =+ROUND(SUMIFS('Programación No Medica'!$P:$P,'Programación No Medica'!$F:$F,'Resumen Programación'!Q$3,'Programación No Medica'!$H:$H,'Resumen Programación'!$L5),0) -> 0 | R5: =+ROUND(SUMIFS('Programación No Medica'!$P:$P,'Programación No Medica'!$F:$F,'Resumen Programación'!R$3,'Programación No Medica'!$H:$H,'Resumen Programación'!$L5),0) -> 0 | S5: =+ROUND(SUMIFS('Programación No Medica'!$P:$P,'Programación No Medica'!$F:$F,'Resumen Programación'!S$3,'Programación No Medica'!$H:$H,'Resumen Programación'!$L5),0) -> 0 | T5: =+ROUND(SUMIFS('Programación No Medica'!$P:$P,'Programación No Medica'!$F:$F,'Resumen Programación'!T$3,'Programación No Medica'!$H:$H,'Resumen Programación'!$L5),0) -> 0 | ... V5: =+ROUND(SUMIFS('Programación No Medica'!$P:$P,'Programación No Medica'!$F:$F,'Resumen Programación'!V$3,'Programación No Medica'!$H:$H,'Resumen Programación'!$L5),0) -> 0
B6: NEONATOLOGÍA | C6: =+ROUND(SUMIFS('Programación Medica'!P:P,'Programación Medica'!F:F,'Resumen Programación'!B6,'Programación Medica'!H:H,"Consulta Nueva de especialidad"),0) -> 0 | D6: =+ROUND(SUMIFS('Programación Medica'!P:P,'Programación Medica'!F:F,'Resumen Programación'!B6,'Programación Medica'!H:H,"Consulta Control de especialidad"),0) -> 0 | E6: =+SUM(C6:D6) -> 0 | G6: Pabellon Cirugía Mayor Ambulatoria | H6: =+ROUND(SUMIF('Programación Medica'!H:H,'Resumen Programación'!G6,'Programación Medica'!P:P),0) -> 0 | L6: Gestión de Casos | M6: =+ROUND(SUMIFS('Programación No Medica'!$P:$P,'Programación No Medica'!$F:$F,'Resumen Programación'!M$3,'Programación No Medica'!$H:$H,'Resumen Programación'!$L6),0) -> 0 | N6: =+ROUND(SUMIFS('Programación No Medica'!$P:$P,'Programación No Medica'!$F:$F,'Resumen Programación'!N$3,'Programación No Medica'!$H:$H,'Resumen Programación'!$L6),0) -> 0 | O6: =+ROUND(SUMIFS('Programación No Medica'!$P:$P,'Programación No Medica'!$F:$F,'Resumen Programación'!O$3,'Programación No Medica'!$H:$H,'Resumen Programación'!$L6),0) -> 0 | P6: =+ROUND(SUMIFS('Programación No Medica'!$P:$P,'Programación No Medica'!$F:$F,'Resumen Programación'!P$3,'Programación No Medica'!$H:$H,'Resumen Programación'!$L6),0) -> 0 | Q6: =+ROUND(SUMIFS('Programación No Medica'!$P:$P,'Programación No Medica'!$F:$F,'Resumen Programación'!Q$3,'Programación No Medica'!$H:$H,'Resumen Programación'!$L6),0) -> 0 | R6: =+ROUND(SUMIFS('Programación No Medica'!$P:$P,'Programación No Medica'!$F:$F,'Resumen Programación'!R$3,'Programación No Medica'!$H:$H,'Resumen Programación'!$L6),0) -> 0 | S6: =+ROUND(SUMIFS('Programación No Medica'!$P:$P,'Programación No Medica'!$F:$F,'Resumen Programación'!S$3,'Programación No Medica'!$H:$H,'Resumen Programación'!$L6),0) -> 0 | T6: =+ROUND(SUMIFS('Programación No Medica'!$P:$P,'Programación No Medica'!$F:$F,'Resumen Programación'!T$3,'Programación No Medica'!$H:$H,'Resumen Programación'!$L6),0) -> 0 | ... V6: =+ROUND(SUMIFS('Programación No Medica'!$P:$P,'Programación No Medica'!$F:$F,'Resumen Programación'!V$3,'Programación No Medica'!$H:$H,'Resumen Programación'!$L6),0) -> 0
B7: ENFERMEDAD RESPIRATORIA PEDIÁTRICA (BRONCOPULMONAR INFANTIL) | C7: =+ROUND(SUMIFS('Programación Medica'!P:P,'Programación Medica'!F:F,'Resumen Programación'!B7,'Programación Medica'!H:H,"Consulta Nueva de especialidad"),0) -> 0 | D7: =+ROUND(SUMIFS('Programación Medica'!P:P,'Programación Medica'!F:F,'Resumen Programación'!B7,'Programación Medica'!H:H,"Consulta Control de especialidad"),0) -> 0 | E7: =+SUM(C7:D7) -> 0 | G7: Pabellon Cirugía Mayor | H7: =+ROUND(SUMIF('Programación Medica'!H:H,'Resumen Programación'!G7,'Programación Medica'!P:P),0) -> 0 | L7: Consulta Abreviada no Médica | M7: =+ROUND(SUMIFS('Programación No Medica'!$P:$P,'Programación No Medica'!$F:$F,'Resumen Programación'!M$3,'Programación No Medica'!$H:$H,'Resumen Programación'!$L7),0) -> 0 | N7: =+ROUND(SUMIFS('Programación No Medica'!$P:$P,'Programación No Medica'!$F:$F,'Resumen Programación'!N$3,'Programación No Medica'!$H:$H,'Resumen Programación'!$L7),0) -> 0 | O7: =+ROUND(SUMIFS('Programación No Medica'!$P:$P,'Programación No Medica'!$F:$F,'Resumen Programación'!O$3,'Programación No Medica'!$H:$H,'Resumen Programación'!$L7),0) -> 0 | P7: =+ROUND(SUMIFS('Programación No Medica'!$P:$P,'Programación No Medica'!$F:$F,'Resumen Programación'!P$3,'Programación No Medica'!$H:$H,'Resumen Programación'!$L7),0) -> 0 | Q7: =+ROUND(SUMIFS('Programación No Medica'!$P:$P,'Programación No Medica'!$F:$F,'Resumen Programación'!Q$3,'Programación No Medica'!$H:$H,'Resumen Programación'!$L7),0) -> 0 | R7: =+ROUND(SUMIFS('Programación No Medica'!$P:$P,'Programación No Medica'!$F:$F,'Resumen Programación'!R$3,'Programación No Medica'!$H:$H,'Resumen Programación'!$L7),0) -> 0 | S7: =+ROUND(SUMIFS('Programación No Medica'!$P:$P,'Programación No Medica'!$F:$F,'Resumen Programación'!S$3,'Programación No Medica'!$H:$H,'Resumen Programación'!$L7),0) -> 0 | T7: =+ROUND(SUMIFS('Programación No Medica'!$P:$P,'Programación No Medica'!$F:$F,'Resumen Programación'!T$3,'Programación No Medica'!$H:$H,'Resumen Programación'!$L7),0) -> 0 | ... V7: =+ROUND(SUMIFS('Programación No Medica'!$P:$P,'Programación No Medica'!$F:$F,'Resumen Programación'!V$3,'Programación No Medica'!$H:$H,'Resumen Programación'!$L7),0) -> 0
B8: ENFERMEDAD RESPIRATORIA DE ADULTO (BRONCOPULMONAR) | C8: =+ROUND(SUMIFS('Programación Medica'!P:P,'Programación Medica'!F:F,'Resumen Programación'!B8,'Programación Medica'!H:H,"Consulta Nueva de especialidad"),0) -> 0 | D8: =+ROUND(SUMIFS('Programación Medica'!P:P,'Programación Medica'!F:F,'Resumen Programación'!B8,'Programación Medica'!H:H,"Consulta Control de especialidad"),0) -> 0 | E8: =+SUM(C8:D8) -> 0 | G8: Pabellon Cirugía Menor | H8: =+ROUND(SUMIF('Programación Medica'!H:H,'Resumen Programación'!G8,'Programación Medica'!P:P),0) -> 86 | L8: Contrareferencia | M8: =+ROUND(SUMIFS('Programación No Medica'!$P:$P,'Programación No Medica'!$F:$F,'Resumen Programación'!M$3,'Programación No Medica'!$H:$H,'Resumen Programación'!$L8),0) -> 0 | N8: =+ROUND(SUMIFS('Programación No Medica'!$P:$P,'Programación No Medica'!$F:$F,'Resumen Programación'!N$3,'Programación No Medica'!$H:$H,'Resumen Programación'!$L8),0) -> 0 | O8: =+ROUND(SUMIFS('Programación No Medica'!$P:$P,'Programación No Medica'!$F:$F,'Resumen Programación'!O$3,'Programación No Medica'!$H:$H,'Resumen Programación'!$L8),0) -> 0 | P8: =+ROUND(SUMIFS('Programación No Medica'!$P:$P,'Programación No Medica'!$F:$F,'Resumen Programación'!P$3,'Programación No Medica'!$H:$H,'Resumen Programación'!$L8),0) -> 0 | Q8: =+ROUND(SUMIFS('Programación No Medica'!$P:$P,'Programación No Medica'!$F:$F,'Resumen Programación'!Q$3,'Programación No Medica'!$H:$H,'Resumen Programación'!$L8),0) -> 0 | R8: =+ROUND(SUMIFS('Programación No Medica'!$P:$P,'Programación No Medica'!$F:$F,'Resumen Programación'!R$3,'Programación No Medica'!$H:$H,'Resumen Programación'!$L8),0) -> 0 | S8: =+ROUND(SUMIFS('Programación No Medica'!$P:$P,'Programación No Medica'!$F:$F,'Resumen Programación'!S$3,'Programación No Medica'!$H:$H,'Resumen Programación'!$L8),0) -> 0 | T8: =+ROUND(SUMIFS('Programación No Medica'!$P:$P,'Programación No Medica'!$F:$F,'Resumen Programación'!T$3,'Programación No Medica'!$H:$H,'Resumen Programación'!$L8),0) -> 0 | ... V8: =+ROUND(SUMIFS('Programación No Medica'!$P:$P,'Programación No Medica'!$F:$F,'Resumen Programación'!V$3,'Programación No Medica'!$H:$H,'Resumen Programación'!$L8),0) -> 0
B9: CARDIOLOGÍA PEDIÁTRICA | C9: =+ROUND(SUMIFS('Programación Medica'!P:P,'Programación Medica'!F:F,'Resumen Programación'!B9,'Programación Medica'!H:H,"Consulta Nueva de especialidad"),0) -> 0 | D9: =+ROUND(SUMIFS('Programación Medica'!P:P,'Programación Medica'!F:F,'Resumen Programación'!B9,'Programación Medica'!H:H,"Consulta Control de especialidad"),0) -> 0 | E9: =+SUM(C9:D9) -> 0 | G9: Pabellon Cirugía Obstetrica | H9: =+ROUND(SUMIF('Programación Medica'!H:H,'Resumen Programación'!G9,'Programación Medica'!P:P),0) -> 0 | L9: Atención de Enlace o Interconsulta a sala | M9: =+ROUND(SUMIFS('Programación No Medica'!$P:$P,'Programación No Medica'!$F:$F,'Resumen Programación'!M$3,'Programación No Medica'!$H:$H,'Resumen Programación'!$L9),0) -> 0 | N9: =+ROUND(SUMIFS('Programación No Medica'!$P:$P,'Programación No Medica'!$F:$F,'Resumen Programación'!N$3,'Programación No Medica'!$H:$H,'Resumen Programación'!$L9),0) -> 0 | O9: =+ROUND(SUMIFS('Programación No Medica'!$P:$P,'Programación No Medica'!$F:$F,'Resumen Programación'!O$3,'Programación No Medica'!$H:$H,'Resumen Programación'!$L9),0) -> 0 | P9: =+ROUND(SUMIFS('Programación No Medica'!$P:$P,'Programación No Medica'!$F:$F,'Resumen Programación'!P$3,'Programación No Medica'!$H:$H,'Resumen Programación'!$L9),0) -> 0 | Q9: =+ROUND(SUMIFS('Programación No Medica'!$P:$P,'Programación No Medica'!$F:$F,'Resumen Programación'!Q$3,'Programación No Medica'!$H:$H,'Resumen Programación'!$L9),0) -> 0 | R9: =+ROUND(SUMIFS('Programación No Medica'!$P:$P,'Programación No Medica'!$F:$F,'Resumen Programación'!R$3,'Programación No Medica'!$H:$H,'Resumen Programación'!$L9),0) -> 0 | S9: =+ROUND(SUMIFS('Programación No Medica'!$P:$P,'Programación No Medica'!$F:$F,'Resumen Programación'!S$3,'Programación No Medica'!$H:$H,'Resumen Programación'!$L9),0) -> 0 | T9: =+ROUND(SUMIFS('Programación No Medica'!$P:$P,'Programación No Medica'!$F:$F,'Resumen Programación'!T$3,'Programación No Medica'!$H:$H,'Resumen Programación'!$L9),0) -> 0 | ... V9: =+ROUND(SUMIFS('Programación No Medica'!$P:$P,'Programación No Medica'!$F:$F,'Resumen Programación'!V$3,'Programación No Medica'!$H:$H,'Resumen Programación'!$L9),0) -> 0
B10: CARDIOLOGÍA ADULTO | C10: =+ROUND(SUMIFS('Programación Medica'!P:P,'Programación Medica'!F:F,'Resumen Programación'!B10,'Programación Medica'!H:H,"Consulta Nueva de especialidad"),0) -> 0 | D10: =+ROUND(SUMIFS('Programación Medica'!P:P,'Programación Medica'!F:F,'Resumen Programación'!B10,'Programación Medica'!H:H,"Consulta Control de especialidad"),0) -> 0 | E10: =+SUM(C10:D10) -> 0 | G10: Visita a sala Hospitalizado | H10: =+ROUND(SUMIF('Programación Medica'!H:H,'Resumen Programación'!G10,'Programación Medica'!P:P),0) -> 0 | L10: Educación Individual | M10: =+ROUND(SUMIFS('Programación No Medica'!$P:$P,'Programación No Medica'!$F:$F,'Resumen Programación'!M$3,'Programación No Medica'!$H:$H,'Resumen Programación'!$L10),0) -> 0 | N10: =+ROUND(SUMIFS('Programación No Medica'!$P:$P,'Programación No Medica'!$F:$F,'Resumen Programación'!N$3,'Programación No Medica'!$H:$H,'Resumen Programación'!$L10),0) -> 0 | O10: =+ROUND(SUMIFS('Programación No Medica'!$P:$P,'Programación No Medica'!$F:$F,'Resumen Programación'!O$3,'Programación No Medica'!$H:$H,'Resumen Programación'!$L10),0) -> 0 | P10: =+ROUND(SUMIFS('Programación No Medica'!$P:$P,'Programación No Medica'!$F:$F,'Resumen Programación'!P$3,'Programación No Medica'!$H:$H,'Resumen Programación'!$L10),0) -> 0 | Q10: =+ROUND(SUMIFS('Programación No Medica'!$P:$P,'Programación No Medica'!$F:$F,'Resumen Programación'!Q$3,'Programación No Medica'!$H:$H,'Resumen Programación'!$L10),0) -> 0 | R10: =+ROUND(SUMIFS('Programación No Medica'!$P:$P,'Programación No Medica'!$F:$F,'Resumen Programación'!R$3,'Programación No Medica'!$H:$H,'Resumen Programación'!$L10),0) -> 0 | S10: =+ROUND(SUMIFS('Programación No Medica'!$P:$P,'Programación No Medica'!$F:$F,'Resumen Programación'!S$3,'Programación No Medica'!$H:$H,'Resumen Programación'!$L10),0) -> 0 | T10: =+ROUND(SUMIFS('Programación No Medica'!$P:$P,'Programación No Medica'!$F:$F,'Resumen Programación'!T$3,'Programación No Medica'!$H:$H,'Resumen Programación'!$L10),0) -> 0 | ... V10: =+ROUND(SUMIFS('Programación No Medica'!$P:$P,'Programación No Medica'!$F:$F,'Resumen Programación'!V$3,'Programación No Medica'!$H:$H,'Resumen Programación'!$L10),0) -> 0
B11: ENDOCRINOLOGÍA PEDIÁTRICA | C11: =+ROUND(SUMIFS('Programación Medica'!P:P,'Programación Medica'!F:F,'Resumen Programación'!B11,'Programación Medica'!H:H,"Consulta Nueva de especialidad"),0) -> 0 | D11: =+ROUND(SUMIFS('Programación Medica'!P:P,'Programación Medica'!F:F,'Resumen Programación'!B11,'Programación Medica'!H:H,"Consulta Control de especialidad"),0) -> 0 | E11: =+SUM(C11:D11) -> 0 | G11: Consultoría en salud | H11: =+ROUND(SUMIF('Programación Medica'!H:H,'Resumen Programación'!G11,'Programación Medica'!P:P),0) -> 0 | L11: Comité clínico | M11: =+ROUND(SUMIFS('Programación No Medica'!$P:$P,'Programación No Medica'!$F:$F,'Resumen Programación'!M$3,'Programación No Medica'!$H:$H,'Resumen Programación'!$L11),0) -> 0 | N11: =+ROUND(SUMIFS('Programación No Medica'!$P:$P,'Programación No Medica'!$F:$F,'Resumen Programación'!N$3,'Programación No Medica'!$H:$H,'Resumen Programación'!$L11),0) -> 0 | O11: =+ROUND(SUMIFS('Programación No Medica'!$P:$P,'Programación No Medica'!$F:$F,'Resumen Programación'!O$3,'Programación No Medica'!$H:$H,'Resumen Programación'!$L11),0) -> 0 | P11: =+ROUND(SUMIFS('Programación No Medica'!$P:$P,'Programación No Medica'!$F:$F,'Resumen Programación'!P$3,'Programación No Medica'!$H:$H,'Resumen Programación'!$L11),0) -> 0 | Q11: =+ROUND(SUMIFS('Programación No Medica'!$P:$P,'Programación No Medica'!$F:$F,'Resumen Programación'!Q$3,'Programación No Medica'!$H:$H,'Resumen Programación'!$L11),0) -> 0 | R11: =+ROUND(SUMIFS('Programación No Medica'!$P:$P,'Programación No Medica'!$F:$F,'Resumen Programación'!R$3,'Programación No Medica'!$H:$H,'Resumen Programación'!$L11),0) -> 0 | S11: =+ROUND(SUMIFS('Programación No Medica'!$P:$P,'Programación No Medica'!$F:$F,'Resumen Programación'!S$3,'Programación No Medica'!$H:$H,'Resumen Programación'!$L11),0) -> 0 | T11: =+ROUND(SUMIFS('Programación No Medica'!$P:$P,'Programación No Medica'!$F:$F,'Resumen Programación'!T$3,'Programación No Medica'!$H:$H,'Resumen Programación'!$L11),0) -> 0 | ... V11: =+ROUND(SUMIFS('Programación No Medica'!$P:$P,'Programación No Medica'!$F:$F,'Resumen Programación'!V$3,'Programación No Medica'!$H:$H,'Resumen Programación'!$L11),0) -> 0
B12: ENDOCRINOLOGÍA ADULTO | C12: =+ROUND(SUMIFS('Programación Medica'!P:P,'Programación Medica'!F:F,'Resumen Programación'!B12,'Programación Medica'!H:H,"Consulta Nueva de especialidad"),0) -> 0 | D12: =+ROUND(SUMIFS('Programación Medica'!P:P,'Programación Medica'!F:F,'Resumen Programación'!B12,'Programación Medica'!H:H,"Consulta Control de especialidad"),0) -> 0 | E12: =+SUM(C12:D12) -> 0 | G12: Teleconsulta nueva de especialidad | H12: =+ROUND(SUMIF('Programación Medica'!H:H,'Resumen Programación'!G12,'Programación Medica'!P:P),0) -> 0 | L12: Comité Oncológico | M12: =+ROUND(SUMIFS('Programación No Medica'!$P:$P,'Programación No Medica'!$F:$F,'Resumen Programación'!M$3,'Programación No Medica'!$H:$H,'Resumen Programación'!$L12),0) -> 0 | N12: =+ROUND(SUMIFS('Programación No Medica'!$P:$P,'Programación No Medica'!$F:$F,'Resumen Programación'!N$3,'Programación No Medica'!$H:$H,'Resumen Programación'!$L12),0) -> 0 | O12: =+ROUND(SUMIFS('Programación No Medica'!$P:$P,'Programación No Medica'!$F:$F,'Resumen Programación'!O$3,'Programación No Medica'!$H:$H,'Resumen Programación'!$L12),0) -> 0 | P12: =+ROUND(SUMIFS('Programación No Medica'!$P:$P,'Programación No Medica'!$F:$F,'Resumen Programación'!P$3,'Programación No Medica'!$H:$H,'Resumen Programación'!$L12),0) -> 0 | Q12: =+ROUND(SUMIFS('Programación No Medica'!$P:$P,'Programación No Medica'!$F:$F,'Resumen Programación'!Q$3,'Programación No Medica'!$H:$H,'Resumen Programación'!$L12),0) -> 0 | R12: =+ROUND(SUMIFS('Programación No Medica'!$P:$P,'Programación No Medica'!$F:$F,'Resumen Programación'!R$3,'Programación No Medica'!$H:$H,'Resumen Programación'!$L12),0) -> 0 | S12: =+ROUND(SUMIFS('Programación No Medica'!$P:$P,'Programación No Medica'!$F:$F,'Resumen Programación'!S$3,'Programación No Medica'!$H:$H,'Resumen Programación'!$L12),0) -> 0 | T12: =+ROUND(SUMIFS('Programación No Medica'!$P:$P,'Programación No Medica'!$F:$F,'Resumen Programación'!T$3,'Programación No Medica'!$H:$H,'Resumen Programación'!$L12),0) -> 0 | ... V12: =+ROUND(SUMIFS('Programación No Medica'!$P:$P,'Programación No Medica'!$F:$F,'Resumen Programación'!V$3,'Programación No Medica'!$H:$H,'Resumen Programación'!$L12),0) -> 0
B13: GASTROENTEROLOGÍA PEDIÁTRICA | C13: =+ROUND(SUMIFS('Programación Medica'!P:P,'Programación Medica'!F:F,'Resumen Programación'!B13,'Programación Medica'!H:H,"Consulta Nueva de especialidad"),0) -> 0 | D13: =+ROUND(SUMIFS('Programación Medica'!P:P,'Programación Medica'!F:F,'Resumen Programación'!B13,'Programación Medica'!H:H,"Consulta Control de especialidad"),0) -> 0 | E13: =+SUM(C13:D13) -> 0 | G13: Teleconsulta control de especialidad | H13: =+ROUND(SUMIF('Programación Medica'!H:H,'Resumen Programación'!G13,'Programación Medica'!P:P),0) -> 0 | L13: Atención Nutricional Intensiva (ANI) | M13: =+ROUND(SUMIFS('Programación No Medica'!$P:$P,'Programación No Medica'!$F:$F,'Resumen Programación'!M$3,'Programación No Medica'!$H:$H,'Resumen Programación'!$L13),0) -> 0 | N13: =+ROUND(SUMIFS('Programación No Medica'!$P:$P,'Programación No Medica'!$F:$F,'Resumen Programación'!N$3,'Programación No Medica'!$H:$H,'Resumen Programación'!$L13),0) -> 0 | O13: =+ROUND(SUMIFS('Programación No Medica'!$P:$P,'Programación No Medica'!$F:$F,'Resumen Programación'!O$3,'Programación No Medica'!$H:$H,'Resumen Programación'!$L13),0) -> 0 | P13: =+ROUND(SUMIFS('Programación No Medica'!$P:$P,'Programación No Medica'!$F:$F,'Resumen Programación'!P$3,'Programación No Medica'!$H:$H,'Resumen Programación'!$L13),0) -> 0 | Q13: =+ROUND(SUMIFS('Programación No Medica'!$P:$P,'Programación No Medica'!$F:$F,'Resumen Programación'!Q$3,'Programación No Medica'!$H:$H,'Resumen Programación'!$L13),0) -> 0 | R13: =+ROUND(SUMIFS('Programación No Medica'!$P:$P,'Programación No Medica'!$F:$F,'Resumen Programación'!R$3,'Programación No Medica'!$H:$H,'Resumen Programación'!$L13),0) -> 0 | S13: =+ROUND(SUMIFS('Programación No Medica'!$P:$P,'Programación No Medica'!$F:$F,'Resumen Programación'!S$3,'Programación No Medica'!$H:$H,'Resumen Programación'!$L13),0) -> 0 | T13: =+ROUND(SUMIFS('Programación No Medica'!$P:$P,'Programación No Medica'!$F:$F,'Resumen Programación'!T$3,'Programación No Medica'!$H:$H,'Resumen Programación'!$L13),0) -> 0 | ... V13: =+ROUND(SUMIFS('Programación No Medica'!$P:$P,'Programación No Medica'!$F:$F,'Resumen Programación'!V$3,'Programación No Medica'!$H:$H,'Resumen Programación'!$L13),0) -> 0
B14: GASTROENTEROLOGÍA ADULTO | C14: =+ROUND(SUMIFS('Programación Medica'!P:P,'Programación Medica'!F:F,'Resumen Programación'!B14,'Programación Medica'!H:H,"Consulta Nueva de especialidad"),0) -> 0 | D14: =+ROUND(SUMIFS('Programación Medica'!P:P,'Programación Medica'!F:F,'Resumen Programación'!B14,'Programación Medica'!H:H,"Consulta Control de especialidad"),0) -> 0 | E14: =+SUM(C14:D14) -> 0 | G14: Teleconsulta de especialidad hospitalizado | H14: =+ROUND(SUMIF('Programación Medica'!H:H,'Resumen Programación'!G14,'Programación Medica'!P:P),0) -> 0 | L14: Atención Nutricional en Sala | M14: =+ROUND(SUMIFS('Programación No Medica'!$P:$P,'Programación No Medica'!$F:$F,'Resumen Programación'!M$3,'Programación No Medica'!$H:$H,'Resumen Programación'!$L14),0) -> 0 | N14: =+ROUND(SUMIFS('Programación No Medica'!$P:$P,'Programación No Medica'!$F:$F,'Resumen Programación'!N$3,'Programación No Medica'!$H:$H,'Resumen Programación'!$L14),0) -> 0 | O14: =+ROUND(SUMIFS('Programación No Medica'!$P:$P,'Programación No Medica'!$F:$F,'Resumen Programación'!O$3,'Programación No Medica'!$H:$H,'Resumen Programación'!$L14),0) -> 0 | P14: =+ROUND(SUMIFS('Programación No Medica'!$P:$P,'Programación No Medica'!$F:$F,'Resumen Programación'!P$3,'Programación No Medica'!$H:$H,'Resumen Programación'!$L14),0) -> 0 | Q14: =+ROUND(SUMIFS('Programación No Medica'!$P:$P,'Programación No Medica'!$F:$F,'Resumen Programación'!Q$3,'Programación No Medica'!$H:$H,'Resumen Programación'!$L14),0) -> 0 | R14: =+ROUND(SUMIFS('Programación No Medica'!$P:$P,'Programación No Medica'!$F:$F,'Resumen Programación'!R$3,'Programación No Medica'!$H:$H,'Resumen Programación'!$L14),0) -> 0 | S14: =+ROUND(SUMIFS('Programación No Medica'!$P:$P,'Programación No Medica'!$F:$F,'Resumen Programación'!S$3,'Programación No Medica'!$H:$H,'Resumen Programación'!$L14),0) -> 0 | T14: =+ROUND(SUMIFS('Programación No Medica'!$P:$P,'Programación No Medica'!$F:$F,'Resumen Programación'!T$3,'Programación No Medica'!$H:$H,'Resumen Programación'!$L14),0) -> 0 | ... V14: =+ROUND(SUMIFS('Programación No Medica'!$P:$P,'Programación No Medica'!$F:$F,'Resumen Programación'!V$3,'Programación No Medica'!$H:$H,'Resumen Programación'!$L14),0) -> 0
B15: GENÉTICA CLÍNICA | C15: =+ROUND(SUMIFS('Programación Medica'!P:P,'Programación Medica'!F:F,'Resumen Programación'!B15,'Programación Medica'!H:H,"Consulta Nueva de especialidad"),0) -> 0 | D15: =+ROUND(SUMIFS('Programación Medica'!P:P,'Programación Medica'!F:F,'Resumen Programación'!B15,'Programación Medica'!H:H,"Consulta Control de especialidad"),0) -> 0 | E15: =+SUM(C15:D15) -> 0 | G15: Visita Domiciliaria | H15: =+ROUND(SUMIF('Programación Medica'!H:H,'Resumen Programación'!G15,'Programación Medica'!P:P),0) -> 0 | L15: Educación nutricional establecimiento o/y espacios públicos. | M15: =+ROUND(SUMIFS('Programación No Medica'!$P:$P,'Programación No Medica'!$F:$F,'Resumen Programación'!M$3,'Programación No Medica'!$H:$H,'Resumen Programación'!$L15),0) -> 0 | N15: =+ROUND(SUMIFS('Programación No Medica'!$P:$P,'Programación No Medica'!$F:$F,'Resumen Programación'!N$3,'Programación No Medica'!$H:$H,'Resumen Programación'!$L15),0) -> 0 | O15: =+ROUND(SUMIFS('Programación No Medica'!$P:$P,'Programación No Medica'!$F:$F,'Resumen Programación'!O$3,'Programación No Medica'!$H:$H,'Resumen Programación'!$L15),0) -> 0 | P15: =+ROUND(SUMIFS('Programación No Medica'!$P:$P,'Programación No Medica'!$F:$F,'Resumen Programación'!P$3,'Programación No Medica'!$H:$H,'Resumen Programación'!$L15),0) -> 0 | Q15: =+ROUND(SUMIFS('Programación No Medica'!$P:$P,'Programación No Medica'!$F:$F,'Resumen Programación'!Q$3,'Programación No Medica'!$H:$H,'Resumen Programación'!$L15),0) -> 0 | R15: =+ROUND(SUMIFS('Programación No Medica'!$P:$P,'Programación No Medica'!$F:$F,'Resumen Programación'!R$3,'Programación No Medica'!$H:$H,'Resumen Programación'!$L15),0) -> 0 | S15: =+ROUND(SUMIFS('Programación No Medica'!$P:$P,'Programación No Medica'!$F:$F,'Resumen Programación'!S$3,'Programación No Medica'!$H:$H,'Resumen Programación'!$L15),0) -> 0 | T15: =+ROUND(SUMIFS('Programación No Medica'!$P:$P,'Programación No Medica'!$F:$F,'Resumen Programación'!T$3,'Programación No Medica'!$H:$H,'Resumen Programación'!$L15),0) -> 0 | ... V15: =+ROUND(SUMIFS('Programación No Medica'!$P:$P,'Programación No Medica'!$F:$F,'Resumen Programación'!V$3,'Programación No Medica'!$H:$H,'Resumen Programación'!$L15),0) -> 0
... B22: REUMATOLOGÍA PEDIÁTRICA | C22: =+ROUND(SUMIFS('Programación Medica'!P:P,'Programación Medica'!F:F,'Resumen Programación'!B22,'Programación Medica'!H:H,"Consulta Nueva de especialidad"),0) -> 0 | D22: =+ROUND(SUMIFS('Programación Medica'!P:P,'Programación Medica'!F:F,'Resumen Programación'!B22,'Programación Medica'!H:H,"Consulta Control de especialidad"),0) -> 0 | E22: =+SUM(C22:D22) -> 0 | G22: Psicoterapia Familiar (SM) | H22: =+ROUND(SUMIF('Programación Medica'!H:H,'Resumen Programación'!G22,'Programación Medica'!P:P),0) -> 0 | L22: Attención Medicina Transfusional por TM | M22: =+ROUND(SUMIFS('Programación No Medica'!$P:$P,'Programación No Medica'!$F:$F,'Resumen Programación'!M$3,'Programación No Medica'!$H:$H,'Resumen Programación'!$L22),0) -> 0 | N22: =+ROUND(SUMIFS('Programación No Medica'!$P:$P,'Programación No Medica'!$F:$F,'Resumen Programación'!N$3,'Programación No Medica'!$H:$H,'Resumen Programación'!$L22),0) -> 0 | O22: =+ROUND(SUMIFS('Programación No Medica'!$P:$P,'Programación No Medica'!$F:$F,'Resumen Programación'!O$3,'Programación No Medica'!$H:$H,'Resumen Programación'!$L22),0) -> 0 | P22: =+ROUND(SUMIFS('Programación No Medica'!$P:$P,'Programación No Medica'!$F:$F,'Resumen Programación'!P$3,'Programación No Medica'!$H:$H,'Resumen Programación'!$L22),0) -> 0 | Q22: =+ROUND(SUMIFS('Programación No Medica'!$P:$P,'Programación No Medica'!$F:$F,'Resumen Programación'!Q$3,'Programación No Medica'!$H:$H,'Resumen Programación'!$L22),0) -> 0 | R22: =+ROUND(SUMIFS('Programación No Medica'!$P:$P,'Programación No Medica'!$F:$F,'Resumen Programación'!R$3,'Programación No Medica'!$H:$H,'Resumen Programación'!$L22),0) -> 0 | S22: =+ROUND(SUMIFS('Programación No Medica'!$P:$P,'Programación No Medica'!$F:$F,'Resumen Programación'!S$3,'Programación No Medica'!$H:$H,'Resumen Programación'!$L22),0) -> 0 | T22: =+ROUND(SUMIFS('Programación No Medica'!$P:$P,'Programación No Medica'!$F:$F,'Resumen Programación'!T$3,'Programación No Medica'!$H:$H,'Resumen Programación'!$L22),0) -> 0 | ... V22: =+ROUND(SUMIFS('Programación No Medica'!$P:$P,'Programación No Medica'!$F:$F,'Resumen Programación'!V$3,'Programación No Medica'!$H:$H,'Resumen Programación'!$L22),0) -> 0
B23: REUMATOLOGÍA ADULTO | C23: =+ROUND(SUMIFS('Programación Medica'!P:P,'Programación Medica'!F:F,'Resumen Programación'!B23,'Programación Medica'!H:H,"Consulta Nueva de especialidad"),0) -> 0 | D23: =+ROUND(SUMIFS('Programación Medica'!P:P,'Programación Medica'!F:F,'Resumen Programación'!B23,'Programación Medica'!H:H,"Consulta Control de especialidad"),0) -> 0 | E23: =+SUM(C23:D23) -> 0 | H23: =+SUM(H4:H22) -> 2659 | L23: Consultas CONTROL POR PROFESIONAL (SM) | M23: =+ROUND(SUMIFS('Programación No Medica'!$P:$P,'Programación No Medica'!$F:$F,'Resumen Programación'!M$3,'Programación No Medica'!$H:$H,'Resumen Programación'!$L23),0) -> 0 | N23: =+ROUND(SUMIFS('Programación No Medica'!$P:$P,'Programación No Medica'!$F:$F,'Resumen Programación'!N$3,'Programación No Medica'!$H:$H,'Resumen Programación'!$L23),0) -> 0 | O23: =+ROUND(SUMIFS('Programación No Medica'!$P:$P,'Programación No Medica'!$F:$F,'Resumen Programación'!O$3,'Programación No Medica'!$H:$H,'Resumen Programación'!$L23),0) -> 0 | P23: =+ROUND(SUMIFS('Programación No Medica'!$P:$P,'Programación No Medica'!$F:$F,'Resumen Programación'!P$3,'Programación No Medica'!$H:$H,'Resumen Programación'!$L23),0) -> 0 | Q23: =+ROUND(SUMIFS('Programación No Medica'!$P:$P,'Programación No Medica'!$F:$F,'Resumen Programación'!Q$3,'Programación No Medica'!$H:$H,'Resumen Programación'!$L23),0) -> 0 | R23: =+ROUND(SUMIFS('Programación No Medica'!$P:$P,'Programación No Medica'!$F:$F,'Resumen Programación'!R$3,'Programación No Medica'!$H:$H,'Resumen Programación'!$L23),0) -> 0 | S23: =+ROUND(SUMIFS('Programación No Medica'!$P:$P,'Programación No Medica'!$F:$F,'Resumen Programación'!S$3,'Programación No Medica'!$H:$H,'Resumen Programación'!$L23),0) -> 0 | T23: =+ROUND(SUMIFS('Programación No Medica'!$P:$P,'Programación No Medica'!$F:$F,'Resumen Programación'!T$3,'Programación No Medica'!$H:$H,'Resumen Programación'!$L23),0) -> 0 | ... V23: =+ROUND(SUMIFS('Programación No Medica'!$P:$P,'Programación No Medica'!$F:$F,'Resumen Programación'!V$3,'Programación No Medica'!$H:$H,'Resumen Programación'!$L23),0) -> 0
B24: DERMATOLOGÍA | C24: =+ROUND(SUMIFS('Programación Medica'!P:P,'Programación Medica'!F:F,'Resumen Programación'!B24,'Programación Medica'!H:H,"Consulta Nueva de especialidad"),0) -> 0 | D24: =+ROUND(SUMIFS('Programación Medica'!P:P,'Programación Medica'!F:F,'Resumen Programación'!B24,'Programación Medica'!H:H,"Consulta Control de especialidad"),0) -> 0 | E24: =+SUM(C24:D24) -> 0 | L24: Consultas NUEVAS (ESPECIALIDAD) | M24: =+ROUND(SUMIFS('Programación No Medica'!$P:$P,'Programación No Medica'!$F:$F,'Resumen Programación'!M$3,'Programación No Medica'!$H:$H,'Resumen Programación'!$L24),0) -> 0 | N24: =+ROUND(SUMIFS('Programación No Medica'!$P:$P,'Programación No Medica'!$F:$F,'Resumen Programación'!N$3,'Programación No Medica'!$H:$H,'Resumen Programación'!$L24),0) -> 0 | O24: =+ROUND(SUMIFS('Programación No Medica'!$P:$P,'Programación No Medica'!$F:$F,'Resumen Programación'!O$3,'Programación No Medica'!$H:$H,'Resumen Programación'!$L24),0) -> 0 | P24: =+ROUND(SUMIFS('Programación No Medica'!$P:$P,'Programación No Medica'!$F:$F,'Resumen Programación'!P$3,'Programación No Medica'!$H:$H,'Resumen Programación'!$L24),0) -> 0 | Q24: =+ROUND(SUMIFS('Programación No Medica'!$P:$P,'Programación No Medica'!$F:$F,'Resumen Programación'!Q$3,'Programación No Medica'!$H:$H,'Resumen Programación'!$L24),0) -> 0 | R24: =+ROUND(SUMIFS('Programación No Medica'!$P:$P,'Programación No Medica'!$F:$F,'Resumen Programación'!R$3,'Programación No Medica'!$H:$H,'Resumen Programación'!$L24),0) -> 0 | S24: =+ROUND(SUMIFS('Programación No Medica'!$P:$P,'Programación No Medica'!$F:$F,'Resumen Programación'!S$3,'Programación No Medica'!$H:$H,'Resumen Programación'!$L24),0) -> 0 | T24: =+ROUND(SUMIFS('Programación No Medica'!$P:$P,'Programación No Medica'!$F:$F,'Resumen Programación'!T$3,'Programación No Medica'!$H:$H,'Resumen Programación'!$L24),0) -> 0 | ... V24: =+ROUND(SUMIFS('Programación No Medica'!$P:$P,'Programación No Medica'!$F:$F,'Resumen Programación'!V$3,'Programación No Medica'!$H:$H,'Resumen Programación'!$L24),0) -> 0
B25: INFECTOLOGÍA PEDIÁTRICA | C25: =+ROUND(SUMIFS('Programación Medica'!P:P,'Programación Medica'!F:F,'Resumen Programación'!B25,'Programación Medica'!H:H,"Consulta Nueva de especialidad"),0) -> 0 | D25: =+ROUND(SUMIFS('Programación Medica'!P:P,'Programación Medica'!F:F,'Resumen Programación'!B25,'Programación Medica'!H:H,"Consulta Control de especialidad"),0) -> 0 | E25: =+SUM(C25:D25) -> 0 | L25: Consultas CONTROL (ESPECIALIDAD) | M25: =+ROUND(SUMIFS('Programación No Medica'!$P:$P,'Programación No Medica'!$F:$F,'Resumen Programación'!M$3,'Programación No Medica'!$H:$H,'Resumen Programación'!$L25),0) -> 0 | N25: =+ROUND(SUMIFS('Programación No Medica'!$P:$P,'Programación No Medica'!$F:$F,'Resumen Programación'!N$3,'Programación No Medica'!$H:$H,'Resumen Programación'!$L25),0) -> 0 | O25: =+ROUND(SUMIFS('Programación No Medica'!$P:$P,'Programación No Medica'!$F:$F,'Resumen Programación'!O$3,'Programación No Medica'!$H:$H,'Resumen Programación'!$L25),0) -> 0 | P25: =+ROUND(SUMIFS('Programación No Medica'!$P:$P,'Programación No Medica'!$F:$F,'Resumen Programación'!P$3,'Programación No Medica'!$H:$H,'Resumen Programación'!$L25),0) -> 0 | Q25: =+ROUND(SUMIFS('Programación No Medica'!$P:$P,'Programación No Medica'!$F:$F,'Resumen Programación'!Q$3,'Programación No Medica'!$H:$H,'Resumen Programación'!$L25),0) -> 0 | R25: =+ROUND(SUMIFS('Programación No Medica'!$P:$P,'Programación No Medica'!$F:$F,'Resumen Programación'!R$3,'Programación No Medica'!$H:$H,'Resumen Programación'!$L25),0) -> 0 | S25: =+ROUND(SUMIFS('Programación No Medica'!$P:$P,'Programación No Medica'!$F:$F,'Resumen Programación'!S$3,'Programación No Medica'!$H:$H,'Resumen Programación'!$L25),0) -> 0 | T25: =+ROUND(SUMIFS('Programación No Medica'!$P:$P,'Programación No Medica'!$F:$F,'Resumen Programación'!T$3,'Programación No Medica'!$H:$H,'Resumen Programación'!$L25),0) -> 0 | ... V25: =+ROUND(SUMIFS('Programación No Medica'!$P:$P,'Programación No Medica'!$F:$F,'Resumen Programación'!V$3,'Programación No Medica'!$H:$H,'Resumen Programación'!$L25),0) -> 0
B26: INFECTOLOGÍA ADULTO | C26: =+ROUND(SUMIFS('Programación Medica'!P:P,'Programación Medica'!F:F,'Resumen Programación'!B26,'Programación Medica'!H:H,"Consulta Nueva de especialidad"),0) -> 0 | D26: =+ROUND(SUMIFS('Programación Medica'!P:P,'Programación Medica'!F:F,'Resumen Programación'!B26,'Programación Medica'!H:H,"Consulta Control de especialidad"),0) -> 0 | E26: =+SUM(C26:D26) -> 0 | M26: =+SUM(M4:M25) -> 0 | N26: =+SUM(N4:N25) -> 0 | O26: =+SUM(O4:O25) -> 0 | P26: =+SUM(P4:P25) -> 0 | Q26: =+SUM(Q4:Q25) -> 0 | R26: =+SUM(R4:R25) -> 0 | S26: =+SUM(S4:S25) -> 0 | T26: =+SUM(T4:T25) -> 0 | ... V26: =+SUM(V4:V25) -> 0
B27: INMUNOLOGÍA | C27: =+ROUND(SUMIFS('Programación Medica'!P:P,'Programación Medica'!F:F,'Resumen Programación'!B27,'Programación Medica'!H:H,"Consulta Nueva de especialidad"),0) -> 0 | D27: =+ROUND(SUMIFS('Programación Medica'!P:P,'Programación Medica'!F:F,'Resumen Programación'!B27,'Programación Medica'!H:H,"Consulta Control de especialidad"),0) -> 0 | E27: =+SUM(C27:D27) -> 0
B28: GERIATRÍA | C28: =+ROUND(SUMIFS('Programación Medica'!P:P,'Programación Medica'!F:F,'Resumen Programación'!B28,'Programación Medica'!H:H,"Consulta Nueva de especialidad"),0) -> 0 | D28: =+ROUND(SUMIFS('Programación Medica'!P:P,'Programación Medica'!F:F,'Resumen Programación'!B28,'Programación Medica'!H:H,"Consulta Control de especialidad"),0) -> 0 | E28: =+SUM(C28:D28) -> 0
B29: MEDICINA FÍSICA Y REHABILITACIÓN PEDIÁTRICA (FISIATRÍA PEDIÁTRICA) | C29: =+ROUND(SUMIFS('Programación Medica'!P:P,'Programación Medica'!F:F,'Resumen Programación'!B29,'Programación Medica'!H:H,"Consulta Nueva de especialidad"),0) -> 0 | D29: =+ROUND(SUMIFS('Programación Medica'!P:P,'Programación Medica'!F:F,'Resumen Programación'!B29,'Programación Medica'!H:H,"Consulta Control de especialidad"),0) -> 0 | E29: =+SUM(C29:D29) -> 0
B30: MEDICINA FÍSICA Y REHABILITACIÓN ADULTO (FISIATRÍA ADULTO) | C30: =+ROUND(SUMIFS('Programación Medica'!P:P,'Programación Medica'!F:F,'Resumen Programación'!B30,'Programación Medica'!H:H,"Consulta Nueva de especialidad"),0) -> 0 | D30: =+ROUND(SUMIFS('Programación Medica'!P:P,'Programación Medica'!F:F,'Resumen Programación'!B30,'Programación Medica'!H:H,"Consulta Control de especialidad"),0) -> 0 | E30: =+SUM(C30:D30) -> 0
B31: NEUROLOGÍA PEDIÁTRICA | C31: =+ROUND(SUMIFS('Programación Medica'!P:P,'Programación Medica'!F:F,'Resumen Programación'!B31,'Programación Medica'!H:H,"Consulta Nueva de especialidad"),0) -> 0 | D31: =+ROUND(SUMIFS('Programación Medica'!P:P,'Programación Medica'!F:F,'Resumen Programación'!B31,'Programación Medica'!H:H,"Consulta Control de especialidad"),0) -> 0 | E31: =+SUM(C31:D31) -> 0
B32: NEUROLOGÍA ADULTO | C32: =+ROUND(SUMIFS('Programación Medica'!P:P,'Programación Medica'!F:F,'Resumen Programación'!B32,'Programación Medica'!H:H,"Consulta Nueva de especialidad"),0) -> 0 | D32: =+ROUND(SUMIFS('Programación Medica'!P:P,'Programación Medica'!F:F,'Resumen Programación'!B32,'Programación Medica'!H:H,"Consulta Control de especialidad"),0) -> 0 | E32: =+SUM(C32:D32) -> 0
B33: ONCOLOGÍA MÉDICA | C33: =+ROUND(SUMIFS('Programación Medica'!P:P,'Programación Medica'!F:F,'Resumen Programación'!B33,'Programación Medica'!H:H,"Consulta Nueva de especialidad"),0) -> 0 | D33: =+ROUND(SUMIFS('Programación Medica'!P:P,'Programación Medica'!F:F,'Resumen Programación'!B33,'Programación Medica'!H:H,"Consulta Control de especialidad"),0) -> 0 | E33: =+SUM(C33:D33) -> 0
B34: PSIQUIATRÍA PEDIÁTRICA Y DE LA ADOLESCENCIA | C34: =+ROUND(SUMIFS('Programación Medica'!P:P,'Programación Medica'!F:F,'Resumen Programación'!B34,'Programación Medica'!H:H,"Consulta Nueva de especialidad"),0) -> 0 | D34: =+ROUND(SUMIFS('Programación Medica'!P:P,'Programación Medica'!F:F,'Resumen Programación'!B34,'Programación Medica'!H:H,"Consulta Control de especialidad"),0) -> 0 | E34: =+SUM(C34:D34) -> 0
B35: PSIQUIATRÍA ADULTO | C35: =+ROUND(SUMIFS('Programación Medica'!P:P,'Programación Medica'!F:F,'Resumen Programación'!B35,'Programación Medica'!H:H,"Consulta Nueva de especialidad"),0) -> 0 | D35: =+ROUND(SUMIFS('Programación Medica'!P:P,'Programación Medica'!F:F,'Resumen Programación'!B35,'Programación Medica'!H:H,"Consulta Control de especialidad"),0) -> 0 | E35: =+SUM(C35:D35) -> 0
B36: CIRUGÍA PEDIÁTRICA | C36: =+ROUND(SUMIFS('Programación Medica'!P:P,'Programación Medica'!F:F,'Resumen Programación'!B36,'Programación Medica'!H:H,"Consulta Nueva de especialidad"),0) -> 0 | D36: =+ROUND(SUMIFS('Programación Medica'!P:P,'Programación Medica'!F:F,'Resumen Programación'!B36,'Programación Medica'!H:H,"Consulta Control de especialidad"),0) -> 0 | E36: =+SUM(C36:D36) -> 0
B37: CIRUGÍA GENERAL ADULTO | C37: =+ROUND(SUMIFS('Programación Medica'!P:P,'Programación Medica'!F:F,'Resumen Programación'!B37,'Programación Medica'!H:H,"Consulta Nueva de especialidad"),0) -> 0 | D37: =+ROUND(SUMIFS('Programación Medica'!P:P,'Programación Medica'!F:F,'Resumen Programación'!B37,'Programación Medica'!H:H,"Consulta Control de especialidad"),0) -> 0 | E37: =+SUM(C37:D37) -> 0
B38: CIRUGÍA DIGESTIVA (ALTA) | C38: =+ROUND(SUMIFS('Programación Medica'!P:P,'Programación Medica'!F:F,'Resumen Programación'!B38,'Programación Medica'!H:H,"Consulta Nueva de especialidad"),0) -> 0 | D38: =+ROUND(SUMIFS('Programación Medica'!P:P,'Programación Medica'!F:F,'Resumen Programación'!B38,'Programación Medica'!H:H,"Consulta Control de especialidad"),0) -> 0 | E38: =+SUM(C38:D38) -> 0
... B64: MEDICINA GENERAL | C64: =+ROUND(SUMIFS('Programación Medica'!P:P,'Programación Medica'!F:F,'Resumen Programación'!B64,'Programación Medica'!H:H,"Consulta Nueva de especialidad"),0) -> 0 | D64: =+ROUND(SUMIFS('Programación Medica'!P:P,'Programación Medica'!F:F,'Resumen Programación'!B64,'Programación Medica'!H:H,"Consulta Control de especialidad"),0) -> 0 | E64: =+SUM(C64:D64) -> 0
C65: =+SUM(C4:C64) -> 2383 | D65: =+SUM(D4:D64) -> 190 | E65: =+SUM(E4:E64) -> 2573
